BEGIN:VCALENDAR
VERSION:2.0
PRODID:-//Martin City Telegraph - ECPv6.15.17.1//NONSGML v1.0//EN
CALSCALE:GREGORIAN
METHOD:PUBLISH
X-WR-CALNAME:Martin City Telegraph
X-ORIGINAL-URL:https://martincitytelegraph.com
X-WR-CALDESC:Events for Martin City Telegraph
REFRESH-INTERVAL;VALUE=DURATION:PT1H
X-Robots-Tag:noindex
X-PUBLISHED-TTL:PT1H
BEGIN:VTIMEZONE
TZID:America/Chicago
BEGIN:DAYLIGHT
TZOFFSETFROM:-0600
TZOFFSETTO:-0500
TZNAME:CDT
DTSTART:20250309T080000
END:DAYLIGHT
BEGIN:STANDARD
TZOFFSETFROM:-0500
TZOFFSETTO:-0600
TZNAME:CST
DTSTART:20251102T070000
END:STANDARD
BEGIN:DAYLIGHT
TZOFFSETFROM:-0600
TZOFFSETTO:-0500
TZNAME:CDT
DTSTART:20260308T080000
END:DAYLIGHT
BEGIN:STANDARD
TZOFFSETFROM:-0500
TZOFFSETTO:-0600
TZNAME:CST
DTSTART:20261101T070000
END:STANDARD
BEGIN:DAYLIGHT
TZOFFSETFROM:-0600
TZOFFSETTO:-0500
TZNAME:CDT
DTSTART:20270314T080000
END:DAYLIGHT
BEGIN:STANDARD
TZOFFSETFROM:-0500
TZOFFSETTO:-0600
TZNAME:CST
DTSTART:20271107T070000
END:STANDARD
END:VTIMEZONE
BEGIN:VEVENT
DTSTART;TZID=America/Chicago:20260514T180000
DTEND;TZID=America/Chicago:20260514T210000
DTSTAMP:20260419T072258
CREATED:20260412T220132Z
LAST-MODIFIED:20260412T220132Z
UID:68562-1778781600-1778792400@martincitytelegraph.com
SUMMARY:Woody @ Martin City Brewing Co.
DESCRIPTION:Live music at Martin City Brewing Company! Come enjoy great craft beer\, delicious pizza\, and a fantastic night of live music.
URL:https://martincitytelegraph.com/calendar/woody-martin-city-brewing-co/
LOCATION:Martin City Brewing Company\, 500 E. 135th Street\, Kansas City\, MO\, United States
END:VEVENT
BEGIN:VEVENT
DTSTART;TZID=America/Chicago:20260514T183000
DTEND;TZID=America/Chicago:20260514T203000
DTSTAMP:20260419T072258
CREATED:20260412T214206Z
LAST-MODIFIED:20260412T214206Z
UID:68450-1778783400-1778790600@martincitytelegraph.com
SUMMARY:Magic with Jack Reid @ KC Bier Co
DESCRIPTION:Award-winning magician Jack Reid performs in the Bierhalle every Thursday! Jack will astonish you with a family-friendly personal tableside magic show. No tickets needed\, just a mind ready to be blown!
URL:https://martincitytelegraph.com/calendar/magic-with-jack-reid-kc-bier-co-5/
LOCATION:KC Bier Co\, 310 W. 79th Street
END:VEVENT
BEGIN:VEVENT
DTSTART;TZID=America/Chicago:20260514T190000
DTEND;TZID=America/Chicago:20260514T210000
DTSTAMP:20260419T072258
CREATED:20260412T031835Z
LAST-MODIFIED:20260412T122304Z
UID:67762-1778785200-1778792400@martincitytelegraph.com
SUMMARY:Sean McDonnell Band @ BB's Lawnside BBQ
DESCRIPTION:Funny\, funky\, blues\, rock\, & soul! This band can do it all! $5 Cover.
URL:https://martincitytelegraph.com/calendar/sean-mcdonnell-band-bbs-lawnside-bbq-2/
LOCATION:BB’s Lawnside\, 1205 E. 85th Street
ATTACH;FMTTYPE=image/jpeg:https://martincitytelegraph.com/wp-content/uploads/2026/04/sean-mcdonnell-1.jpg
END:VEVENT
BEGIN:VEVENT
DTSTART;TZID=America/Chicago:20260514T190000
DTEND;TZID=America/Chicago:20260514T210000
DTSTAMP:20260419T072258
CREATED:20260412T115752Z
LAST-MODIFIED:20260412T131146Z
UID:67838-1778785200-1778792400@martincitytelegraph.com
SUMMARY:Nick Thune @ The Comedy Club of KC
DESCRIPTION:Live stand-up comedy with Nick Thune. Seating options: Front Row Table for 2 covers admission for 2 people. Preferred Seats are as close to the stage as possible\, held until 5 minutes prior to show. General Admission generally starts in the back half of the showroom. Party Table for 10 is a designated table in the front of the GA section covering admission for up to 10 people (food/drink not included).
URL:https://martincitytelegraph.com/calendar/nick-thune-the-comedy-club-of-kc/
LOCATION:The Comedy Club of KC\, 1130 W 103 St\, Kansas City\, MO\, 64114
ATTACH;FMTTYPE=image/png:https://martincitytelegraph.com/wp-content/uploads/2026/04/nickthune.png
END:VEVENT
BEGIN:VEVENT
DTSTART;TZID=America/Chicago:20260514T190000
DTEND;TZID=America/Chicago:20260514T210000
DTSTAMP:20260419T072258
CREATED:20260415T213648Z
LAST-MODIFIED:20260415T213648Z
UID:68874-1778785200-1778792400@martincitytelegraph.com
SUMMARY:Thursday Bingo Night @ Transparent Brewing Company
DESCRIPTION:Thursday nights just got a whole lot better! Join us every week for Bingo Night hosted by brewery owner Nolan Brown. It’s Nacho Average Thursday\, so come hungry and take advantage of discounted Loaded Nachos\, grab a dauber\, and get ready for a night of games\, pints\, and local flavor. Happy Hour runs 3:00-6:00 PM with $1 off all full pours. Bingo starts at 7:00 PM. No buy-in required — just show up\, grab a beer\, and play to win! Located at Transparent Brewing Co.\, 14501 White Ave.\, Grandview\, MO 64030.
URL:https://martincitytelegraph.com/calendar/thursday-bingo-night-transparent-brewing-company-5/
LOCATION:Transparent Brewing Company\, 14501 White ave\, Grandview\, MO\, United States
END:VEVENT
BEGIN:VEVENT
DTSTART;TZID=America/Chicago:20260514T200000
DTEND;TZID=America/Chicago:20260514T233000
DTSTAMP:20260419T072258
CREATED:20260415T215704Z
LAST-MODIFIED:20260415T215704Z
UID:68935-1778788800-1778801400@martincitytelegraph.com
SUMMARY:Karaoke Night @ Iron Horse Bar & Grill
DESCRIPTION:Thursdays just got hotter at Iron Horse Leawood! DJ Love hits the decks and Martell hosts Karaoke Night for a full evening of singing\, dancing\, and great vibes. Come show off your best moves and your best voice!
URL:https://martincitytelegraph.com/calendar/karaoke-night-iron-horse-bar-grill-5/
LOCATION:MO
END:VEVENT
BEGIN:VEVENT
DTSTART;TZID=America/Chicago:20260514T203000
DTEND;TZID=America/Chicago:20260514T210000
DTSTAMP:20260419T072258
CREATED:20260412T115753Z
LAST-MODIFIED:20260412T115753Z
UID:67839-1778790600-1778792400@martincitytelegraph.com
SUMMARY:Open Mic @ The Comedy Club of KC
DESCRIPTION:Sign up between 8:30pm and 9:00pm. 3 minute sets. Bucket draw.
URL:https://martincitytelegraph.com/calendar/open-mic-the-comedy-club-of-kc-5/
LOCATION:The Comedy Club of KC\, 1130 W 103 St\, Kansas City\, MO\, 64114
END:VEVENT
BEGIN:VEVENT
DTSTART;TZID=America/Chicago:20260515T080000
DTEND;TZID=America/Chicago:20260515T180000
DTSTAMP:20260419T072258
CREATED:20260412T132912Z
LAST-MODIFIED:20260412T132912Z
UID:68031-1778832000-1778868000@martincitytelegraph.com
SUMMARY:Kid Fit @ Wonderscope
DESCRIPTION:Kid Fit sessions offered at 9:30 am\, 10:30 am\, 1:30 pm\, and 2:30 pm. Free with museum admission or membership. Sign-ups start 30 minutes before class time.
URL:https://martincitytelegraph.com/calendar/kid-fit-wonderscope-7/
LOCATION:The Regnier Family Wonderscope Children’s Museum of Kansas City\, 423 E. Red Bridge Shopping Center
END:VEVENT
BEGIN:VEVENT
DTSTART;TZID=America/Chicago:20260515T150000
DTEND;TZID=America/Chicago:20260515T160000
DTSTAMP:20260419T072258
CREATED:20260412T132913Z
LAST-MODIFIED:20260412T132913Z
UID:68032-1778857200-1778860800@martincitytelegraph.com
SUMMARY:Children's Mercy Science Friday @ Wonderscope
DESCRIPTION:A team of scientists from Children’s Mercy’s Research Institute will lead participants in exciting scientific exploration in an approachable\, relatable and age-appropriate way. Program begins at 3:00 pm in the Design Lab. Free with admission or membership.
URL:https://martincitytelegraph.com/calendar/childrens-mercy-science-friday-wonderscope-2/
LOCATION:The Regnier Family Wonderscope Children’s Museum of Kansas City\, 423 E. Red Bridge Shopping Center
END:VEVENT
BEGIN:VEVENT
DTSTART;TZID=America/Chicago:20260515T173000
DTEND;TZID=America/Chicago:20260515T193000
DTSTAMP:20260419T072258
CREATED:20260413T001917Z
LAST-MODIFIED:20260413T001917Z
UID:68669-1778866200-1778873400@martincitytelegraph.com
SUMMARY:Drink Your History: Whiskey @ Alexander Majors Historic Museum
DESCRIPTION:Unbarrel the secrets of a truly American spirit at the first Drink Your History event of 2026! Wornall/Majors House Museum’s popular series returns to tell the tale of how unaged\, often over-100-proof liquor grew into a smooth staple of American cups. From Civil War soldiers’ daily whiskey rations to the angel’s share lost in charred oak\, there’s much to uncover. The evening features whiskey samples\, a curated cocktail or two\, and a lively historic talk. Tickets: $30 per person\, or $75 for the full series.
URL:https://martincitytelegraph.com/calendar/drink-your-history-whiskey-alexander-majors-historic-museum/
LOCATION:Alexander Majors historic Museum\, 8201 State Line Rd.\, Kansas City\, MO\, United States
END:VEVENT
BEGIN:VEVENT
DTSTART;TZID=America/Chicago:20260515T190000
DTEND;TZID=America/Chicago:20260515T210000
DTSTAMP:20260419T072258
CREATED:20260412T031835Z
LAST-MODIFIED:20260412T122207Z
UID:67763-1778871600-1778878800@martincitytelegraph.com
SUMMARY:Stone Cutters Union @ BB's Lawnside BBQ
DESCRIPTION:Joyous\, classic and modern roots\, blues\, soul\, funk\, & Americana. $7 Cover.
URL:https://martincitytelegraph.com/calendar/stone-cutters-union-bbs-lawnside-bbq-2/
LOCATION:BB’s Lawnside\, 1205 E. 85th Street
ATTACH;FMTTYPE=image/jpeg:https://martincitytelegraph.com/wp-content/uploads/2026/04/stonecutters.jpg
END:VEVENT
BEGIN:VEVENT
DTSTART;TZID=America/Chicago:20260515T190000
DTEND;TZID=America/Chicago:20260515T213000
DTSTAMP:20260419T072258
CREATED:20260412T115753Z
LAST-MODIFIED:20260412T131108Z
UID:67840-1778871600-1778880600@martincitytelegraph.com
SUMMARY:Nick Thune @ The Comedy Club of KC
DESCRIPTION:Live stand-up comedy with Nick Thune. Seating options: Front Row Table for 2 covers admission for 2 people. Preferred Seats are as close to the stage as possible\, held until 5 minutes prior to show. General Admission generally starts in the back half of the showroom. Party Table for 10 is a designated table in the front of the GA section covering admission for up to 10 people (food/drink not included).
URL:https://martincitytelegraph.com/calendar/nick-thune-the-comedy-club-of-kc-2/
LOCATION:The Comedy Club of KC\, 1130 W 103 St\, Kansas City\, MO\, 64114
ATTACH;FMTTYPE=image/png:https://martincitytelegraph.com/wp-content/uploads/2026/04/nickthune.png
END:VEVENT
BEGIN:VEVENT
DTSTART;TZID=America/Chicago:20260515T190000
DTEND;TZID=America/Chicago:20260515T220000
DTSTAMP:20260419T072258
CREATED:20260412T220132Z
LAST-MODIFIED:20260412T220132Z
UID:68563-1778871600-1778882400@martincitytelegraph.com
SUMMARY:Micah Burdick @ Martin City Brewing Co.
DESCRIPTION:Live music at Martin City Brewing Company! Come enjoy great craft beer\, delicious pizza\, and a fantastic night of live music.
URL:https://martincitytelegraph.com/calendar/micah-burdick-martin-city-brewing-co-2/
LOCATION:Martin City Brewing Company\, 500 E. 135th Street\, Kansas City\, MO\, United States
END:VEVENT
BEGIN:VEVENT
DTSTART;TZID=America/Chicago:20260515T200000
DTEND;TZID=America/Chicago:20260515T200000
DTSTAMP:20260419T072258
CREATED:20260415T215704Z
LAST-MODIFIED:20260415T215704Z
UID:68936-1778875200-1778875200@martincitytelegraph.com
SUMMARY:DJ Night & Shot Specials @ Iron Horse Bar & Grill
DESCRIPTION:Kickstart your weekend every Friday at Iron Horse Leawood with DJ Night! Warm up during Happy Hour then dance the night away with our fabulous DJs and shot specials. Ladies Night energy all night long.
URL:https://martincitytelegraph.com/calendar/dj-night-shot-specials-iron-horse-bar-grill-5/
LOCATION:MO
END:VEVENT
BEGIN:VEVENT
DTSTART;TZID=America/Chicago:20260515T200000
DTEND;TZID=America/Chicago:20260515T230000
DTSTAMP:20260419T072258
CREATED:20260412T213049Z
LAST-MODIFIED:20260412T213049Z
UID:68406-1778875200-1778886000@martincitytelegraph.com
SUMMARY:Karaoke Night @ Tanner's
DESCRIPTION:Join us every Friday at 8 PM for Karaoke Night at Tanner’s! Whether you’re a rockstar\, a shower singer\, or just here for the laughs\, the stage is yours. Come out and show KC what you’ve got!
URL:https://martincitytelegraph.com/calendar/karaoke-night-tanners-5/
LOCATION:Tanner’s\, 11134 Holmes Rd\, Kansas City\, MO\, 64131
END:VEVENT
BEGIN:VEVENT
DTSTART;TZID=America/Chicago:20260516T093000
DTEND;TZID=America/Chicago:20260516T143000
DTSTAMP:20260419T072258
CREATED:20260415T215718Z
LAST-MODIFIED:20260415T215718Z
UID:68937-1778923800-1778941800@martincitytelegraph.com
SUMMARY:Saturday Brunch @ Iron Horse Bar & Grill
DESCRIPTION:Weekend Brunch at Iron Horse Leawood every Saturday from 9:30 AM to 2:30 PM! Enjoy mimosas and all the breakfast and brunch favorites you love.
URL:https://martincitytelegraph.com/calendar/saturday-brunch-iron-horse-bar-grill-5/
LOCATION:MO
END:VEVENT
BEGIN:VEVENT
DTSTART;TZID=America/Chicago:20260516T100000
DTEND;TZID=America/Chicago:20260516T140000
DTSTAMP:20260419T072258
CREATED:20260412T202036Z
LAST-MODIFIED:20260412T202036Z
UID:68188-1778925600-1778940000@martincitytelegraph.com
SUMMARY:Celebrating Urban Birds @ Lakeside Nature Center
DESCRIPTION:Free program! Learn about the 15 species of interest to Cornell Lab of Ornithology. Participants will be encouraged to take part in Cornell Lab of Ornithology Citizen Science Survey. Located at Lakeside Nature Center\, 4701 E. Gregory Blvd.\, Kansas City\, MO.
URL:https://martincitytelegraph.com/calendar/celebrating-urban-birds-lakeside-nature-center-2/
LOCATION:Lakeside Nature Center\, 4701 East Gregory Boulevard
END:VEVENT
BEGIN:VEVENT
DTSTART;TZID=America/Chicago:20260516T103000
DTEND;TZID=America/Chicago:20260516T120000
DTSTAMP:20260419T072258
CREATED:20260412T202036Z
LAST-MODIFIED:20260412T202036Z
UID:68189-1778927400-1778932800@martincitytelegraph.com
SUMMARY:Hike with a Naturalist @ Lakeside Nature Center
DESCRIPTION:All scheduled hikes are open to the public. There is no fee. Hikes will be cancelled in severe weather – call the center at 816-513-8960 for confirmation. Please dress appropriately for the weather. Located at Lakeside Nature Center\, 4701 E. Gregory Blvd.\, Kansas City\, MO.
URL:https://martincitytelegraph.com/calendar/hike-with-a-naturalist-lakeside-nature-center-4/
LOCATION:Lakeside Nature Center\, 4701 East Gregory Boulevard
END:VEVENT
BEGIN:VEVENT
DTSTART;TZID=America/Chicago:20260516T110000
DTEND;TZID=America/Chicago:20260516T120000
DTSTAMP:20260419T072258
CREATED:20260412T021327Z
LAST-MODIFIED:20260412T021819Z
UID:67597-1778929200-1778932800@martincitytelegraph.com
SUMMARY:Baby Prom @ Red Bridge MCPL
DESCRIPTION:Families of children ages birth to 2 years are invited to Baby Prom at the Library. Come dressed in your fanciest clothes (or your kiddo’s favorite outfit)\, take pictures at our selfie station\, and dance to music!
URL:https://martincitytelegraph.com/calendar/baby-prom-red-bridge-mcpl/
LOCATION:Red Bridge Mid-Continent Library\, 453B East Red Bridge Road\, Kansas City\, MO\, United States
END:VEVENT
BEGIN:VEVENT
DTSTART;TZID=America/Chicago:20260516T110000
DTEND;TZID=America/Chicago:20260516T120000
DTSTAMP:20260419T072258
CREATED:20260412T133156Z
LAST-MODIFIED:20260412T133156Z
UID:68089-1778929200-1778932800@martincitytelegraph.com
SUMMARY:Train Ride @ Belton Railroad
DESCRIPTION:Take a step back in time to the Golden Age of Travel and ride a train like your grandparents\, or even your grandparent’s grandparents\, may have traveled on! From our 1920s era passenger coach\, our open-air excursion car\, to our 1950s Diesel locomotive\, riding with us through Old Towne Belton\, MO is a blast from the past! Ticket Prices: Ages 3 & under FREE | Ages 4-10: $10 | Ages 11+: $17. Looking for something extra special? Ride in the Caboose for $50 or ride in the Engine for $75 (tickets limited for each departure).
URL:https://martincitytelegraph.com/calendar/train-ride-belton-railroad-7/
LOCATION:Belton Railroad\, 502 E. Walnut
END:VEVENT
BEGIN:VEVENT
DTSTART;TZID=America/Chicago:20260516T130000
DTEND;TZID=America/Chicago:20260516T140000
DTSTAMP:20260419T072258
CREATED:20260412T025447Z
LAST-MODIFIED:20260412T025447Z
UID:67656-1778936400-1778940000@martincitytelegraph.com
SUMMARY:Bishop Brigade Chess Club for All Ages @Belton Library
DESCRIPTION:Calling all chess players! Are you an expert? Or maybe you’ve always wanted to learn? Whatever your skill level\, this club is for you! The first 20 minutes will be an introductory lesson and the last 40 minutes you’ll be able to practice your skills in an actual game. Bring your own chess set if you have one. A limited number of sets will be supplied. Intended for all ages.
URL:https://martincitytelegraph.com/calendar/bishop-brigade-chess-club-for-all-ages-belton-library-3/
LOCATION:Cass County Public Library Northern Resource Center\, 1741 E North Ave\, Belton\, MO\, United States
END:VEVENT
BEGIN:VEVENT
DTSTART;TZID=America/Chicago:20260516T140000
DTEND;TZID=America/Chicago:20260516T150000
DTSTAMP:20260419T072258
CREATED:20260412T133156Z
LAST-MODIFIED:20260412T133156Z
UID:68090-1778940000-1778943600@martincitytelegraph.com
SUMMARY:Train Ride @ Belton Railroad
DESCRIPTION:Take a step back in time to the Golden Age of Travel and ride a train like your grandparents\, or even your grandparent’s grandparents\, may have traveled on! From our 1920s era passenger coach\, our open-air excursion car\, to our 1950s Diesel locomotive\, riding with us through Old Towne Belton\, MO is a blast from the past! Ticket Prices: Ages 3 & under FREE | Ages 4-10: $10 | Ages 11+: $17. Looking for something extra special? Ride in the Caboose for $50 or ride in the Engine for $75 (tickets limited for each departure).
URL:https://martincitytelegraph.com/calendar/train-ride-belton-railroad-8/
LOCATION:Belton Railroad\, 502 E. Walnut
END:VEVENT
BEGIN:VEVENT
DTSTART;TZID=America/Chicago:20260516T140000
DTEND;TZID=America/Chicago:20260516T170000
DTSTAMP:20260419T072258
CREATED:20260412T031909Z
LAST-MODIFIED:20260412T122113Z
UID:67766-1778940000-1778950800@martincitytelegraph.com
SUMMARY:Mama Ray's Legacy Jam Featuring Lori Tucker @ BB's Lawnside BBQ
DESCRIPTION:Come jam with the crew every Saturday! Sign up with Lori and she will get you up on stage. No better jam in town! No Cover.
URL:https://martincitytelegraph.com/calendar/mama-rays-legacy-jam-featuring-lori-tucker-bbs-lawnside-bbq-7/
LOCATION:BB’s Lawnside\, 1205 E. 85th Street
ATTACH;FMTTYPE=image/jpeg:https://martincitytelegraph.com/wp-content/uploads/2026/04/lori-and-jay.jpg
END:VEVENT
BEGIN:VEVENT
DTSTART;TZID=America/Chicago:20260516T150000
DTEND;TZID=America/Chicago:20260516T170000
DTSTAMP:20260419T072258
CREATED:20260412T214206Z
LAST-MODIFIED:20260412T214206Z
UID:68451-1778943600-1778950800@martincitytelegraph.com
SUMMARY:Live Polka with Bram Wijnands @ KC Bier Co
DESCRIPTION:Enjoy fresh\, authentic German-style bier and a spread of Bavarian pretzels\, sausages\, and other favorites every Saturday in the Biergarten\, featuring live polka and German drinking songs with Bram Wijnands (and sometimes a special guest or two)! Live polka is rain or shine – the music will move indoors to the Bierhalle if needed. Free admission!
URL:https://martincitytelegraph.com/calendar/live-polka-with-bram-wijnands-kc-bier-co-5/
LOCATION:KC Bier Co\, 310 W. 79th Street
END:VEVENT
BEGIN:VEVENT
DTSTART;TZID=America/Chicago:20260516T190000
DTEND;TZID=America/Chicago:20260516T190000
DTSTAMP:20260419T072258
CREATED:20260412T212749Z
LAST-MODIFIED:20260412T212749Z
UID:68380-1778958000-1778958000@martincitytelegraph.com
SUMMARY:Poker Night @ The Limit Pub & Grub
DESCRIPTION:Try your luck at our weekly Saturday night Poker! Only a $5 buy-in. New to poker? No problem — contact us about our upcoming beginner class! Every Saturday night at The Limit Pub & Grub.
URL:https://martincitytelegraph.com/calendar/poker-night-the-limit-pub-grub-5/
LOCATION:MO
END:VEVENT
BEGIN:VEVENT
DTSTART;TZID=America/Chicago:20260516T190000
DTEND;TZID=America/Chicago:20260516T213000
DTSTAMP:20260419T072258
CREATED:20260412T115834Z
LAST-MODIFIED:20260412T131041Z
UID:67841-1778958000-1778967000@martincitytelegraph.com
SUMMARY:Nick Thune @ The Comedy Club of KC
DESCRIPTION:Live stand-up comedy with Nick Thune. Seating options: Front Row Table for 2 covers admission for 2 people. Preferred Seats are as close to the stage as possible\, held until 5 minutes prior to show. General Admission generally starts in the back half of the showroom. Party Table for 10 is a designated table in the front of the GA section covering admission for up to 10 people (food/drink not included).
URL:https://martincitytelegraph.com/calendar/nick-thune-the-comedy-club-of-kc-3/
LOCATION:The Comedy Club of KC\, 1130 W 103 St\, Kansas City\, MO\, 64114
ATTACH;FMTTYPE=image/png:https://martincitytelegraph.com/wp-content/uploads/2026/04/nickthune.png
END:VEVENT
BEGIN:VEVENT
DTSTART;TZID=America/Chicago:20260516T200000
DTEND;TZID=America/Chicago:20260516T220000
DTSTAMP:20260419T072258
CREATED:20260412T203916Z
LAST-MODIFIED:20260412T203916Z
UID:68245-1778961600-1778968800@martincitytelegraph.com
SUMMARY:Triumph: The Rock & Roll Machine Reloaded @ Starlight Theatre
DESCRIPTION:Triumph: The Rock & Roll Machine Reloaded with special guest April Wine at Starlight Theatre. Located at 4600 Starlight Rd.\, Kansas City\, MO.
URL:https://martincitytelegraph.com/calendar/triumph-the-rock-roll-machine-reloaded-starlight-theatre/
LOCATION:Starlight Theatre\, 4600 Starlight Rd.\, Kansas City\, MO\, United States
END:VEVENT
BEGIN:VEVENT
DTSTART;TZID=America/Chicago:20260516T200000
DTEND;TZID=America/Chicago:20260516T230000
DTSTAMP:20260419T072258
CREATED:20260415T215719Z
LAST-MODIFIED:20260415T215719Z
UID:68938-1778961600-1778972400@martincitytelegraph.com
SUMMARY:Live Music: Jake Reese & Ireland @ Iron Horse Bar & Grill
DESCRIPTION:Jake Reese and Ireland are live loop artists in the Kansas City scene\, bringing fresh interpretations of classic songs and new originals to the Iron Horse Leawood stage!
URL:https://martincitytelegraph.com/calendar/live-music-jake-reese-ireland-iron-horse-bar-grill/
LOCATION:MO
END:VEVENT
BEGIN:VEVENT
DTSTART;TZID=America/Chicago:20260517T080000
DTEND;TZID=America/Chicago:20260517T180000
DTSTAMP:20260419T072258
CREATED:20260412T132913Z
LAST-MODIFIED:20260412T132913Z
UID:68033-1779004800-1779040800@martincitytelegraph.com
SUMMARY:Museum Swap Sundays! @ Wonderscope
DESCRIPTION:FREE visits for Discovery Center\, inspireU\, and Wonderscope members! All active Wonderscope members can enjoy FREE admission to two fantastic children’s museums: the Kansas Children’s Discovery Center in Topeka\, KS\, and the inspireU Children’s Discovery Center in St. Joseph\, MO — just present your Wonderscope membership card at the entrance. Members of the Discovery Center and inspireU also get to visit Wonderscope FREE! 2026 Swap Sundays: Feb. 15\, May 17\, Aug. 16\, and Nov. 15.
URL:https://martincitytelegraph.com/calendar/museum-swap-sundays-wonderscope/
LOCATION:The Regnier Family Wonderscope Children’s Museum of Kansas City\, 423 E. Red Bridge Shopping Center
END:VEVENT
BEGIN:VEVENT
DTSTART;TZID=America/Chicago:20260517T093000
DTEND;TZID=America/Chicago:20260517T143000
DTSTAMP:20260419T072258
CREATED:20260415T215719Z
LAST-MODIFIED:20260415T215719Z
UID:68939-1779010200-1779028200@martincitytelegraph.com
SUMMARY:Sunday Brunch @ Iron Horse Bar & Grill
DESCRIPTION:Weekend Brunch at Iron Horse Leawood every Sunday from 9:30 AM to 2:30 PM! Enjoy mimosas and all the breakfast and brunch favorites you love.
URL:https://martincitytelegraph.com/calendar/sunday-brunch-iron-horse-bar-grill-5/
LOCATION:MO
END:VEVENT
END:VCALENDAR