BEGIN:VCALENDAR
VERSION:2.0
PRODID:-//Martin City Telegraph - ECPv6.15.17.1//NONSGML v1.0//EN
CALSCALE:GREGORIAN
METHOD:PUBLISH
X-WR-CALNAME:Martin City Telegraph
X-ORIGINAL-URL:https://martincitytelegraph.com
X-WR-CALDESC:Events for Martin City Telegraph
REFRESH-INTERVAL;VALUE=DURATION:PT1H
X-Robots-Tag:noindex
X-PUBLISHED-TTL:PT1H
BEGIN:VTIMEZONE
TZID:America/Chicago
BEGIN:DAYLIGHT
TZOFFSETFROM:-0600
TZOFFSETTO:-0500
TZNAME:CDT
DTSTART:20250309T080000
END:DAYLIGHT
BEGIN:STANDARD
TZOFFSETFROM:-0500
TZOFFSETTO:-0600
TZNAME:CST
DTSTART:20251102T070000
END:STANDARD
BEGIN:DAYLIGHT
TZOFFSETFROM:-0600
TZOFFSETTO:-0500
TZNAME:CDT
DTSTART:20260308T080000
END:DAYLIGHT
BEGIN:STANDARD
TZOFFSETFROM:-0500
TZOFFSETTO:-0600
TZNAME:CST
DTSTART:20261101T070000
END:STANDARD
BEGIN:DAYLIGHT
TZOFFSETFROM:-0600
TZOFFSETTO:-0500
TZNAME:CDT
DTSTART:20270314T080000
END:DAYLIGHT
BEGIN:STANDARD
TZOFFSETFROM:-0500
TZOFFSETTO:-0600
TZNAME:CST
DTSTART:20271107T070000
END:STANDARD
END:VTIMEZONE
BEGIN:VEVENT
DTSTART;TZID=America/Chicago:20260520T190000
DTEND;TZID=America/Chicago:20260520T210000
DTSTAMP:20260420T005911
CREATED:20260412T221008Z
LAST-MODIFIED:20260412T221008Z
UID:68605-1779303600-1779310800@martincitytelegraph.com
SUMMARY:Nigel Wearne - Waldo Folk @ Waldo Pizza
DESCRIPTION:Waldo Folk Presents must-see live music in the Tap Room at Waldo Pizza! Shows start at 7:00 PM. Doors open at 5:30 PM. Featuring Nigel Wearne. A deep thinker and truth seeker with a penchant for all things peculiar\, Nigel Wearne sings of human frailty\, grace\, and the cosmos.
URL:https://martincitytelegraph.com/calendar/nigel-wearne-waldo-folk-waldo-pizza/
LOCATION:Waldo Pizza\, 7433 Broadway St\,\, Kansas City\, MO\, United States
END:VEVENT
BEGIN:VEVENT
DTSTART;TZID=America/Chicago:20260521T093000
DTEND;TZID=America/Chicago:20260521T150000
DTSTAMP:20260420T005911
CREATED:20260412T132921Z
LAST-MODIFIED:20260412T132921Z
UID:68039-1779355800-1779375600@martincitytelegraph.com
SUMMARY:Art Time @ Wonderscope
DESCRIPTION:Art Time sessions offered at 9:30 am\, 10:30 am\, 1:30 pm\, and 2:30 pm. Free with museum admission or membership. Sign-ups start 30 minutes before class time.
URL:https://martincitytelegraph.com/calendar/art-time-wonderscope-8/
LOCATION:The Regnier Family Wonderscope Children’s Museum of Kansas City\, 423 E. Red Bridge Shopping Center
END:VEVENT
BEGIN:VEVENT
DTSTART;TZID=America/Chicago:20260521T183000
DTEND;TZID=America/Chicago:20260521T203000
DTSTAMP:20260420T005911
CREATED:20260412T214221Z
LAST-MODIFIED:20260412T214221Z
UID:68454-1779388200-1779395400@martincitytelegraph.com
SUMMARY:Magic with Jack Reid @ KC Bier Co
DESCRIPTION:Award-winning magician Jack Reid performs in the Bierhalle every Thursday! Jack will astonish you with a family-friendly personal tableside magic show. No tickets needed\, just a mind ready to be blown!
URL:https://martincitytelegraph.com/calendar/magic-with-jack-reid-kc-bier-co-6/
LOCATION:KC Bier Co\, 310 W. 79th Street
END:VEVENT
BEGIN:VEVENT
DTSTART;TZID=America/Chicago:20260521T190000
DTEND;TZID=America/Chicago:20260521T210000
DTSTAMP:20260420T005911
CREATED:20260412T031910Z
LAST-MODIFIED:20260412T121741Z
UID:67770-1779390000-1779397200@martincitytelegraph.com
SUMMARY:Taylor Smith Trio @ BB's Lawnside BBQ
DESCRIPTION:Hot guitar and vocals with a twist of funk & Hendrix! $5 Cover.
URL:https://martincitytelegraph.com/calendar/taylor-smith-trio-bbs-lawnside-bbq-4/
LOCATION:BB’s Lawnside\, 1205 E. 85th Street
ATTACH;FMTTYPE=image/jpeg:https://martincitytelegraph.com/wp-content/uploads/2026/04/TAYLOR-SMITH.jpg
END:VEVENT
BEGIN:VEVENT
DTSTART;TZID=America/Chicago:20260521T190000
DTEND;TZID=America/Chicago:20260521T210000
DTSTAMP:20260420T005911
CREATED:20260412T115834Z
LAST-MODIFIED:20260412T130945Z
UID:67842-1779390000-1779397200@martincitytelegraph.com
SUMMARY:Aaron Scarbrough @ The Comedy Club of KC
DESCRIPTION:Live stand-up comedy with Aaron Scarbrough.
URL:https://martincitytelegraph.com/calendar/aaron-scarbrough-the-comedy-club-of-kc/
LOCATION:The Comedy Club of KC\, 1130 W 103 St\, Kansas City\, MO\, 64114
ATTACH;FMTTYPE=image/png:https://martincitytelegraph.com/wp-content/uploads/2026/04/aaronscarbrough.png
END:VEVENT
BEGIN:VEVENT
DTSTART;TZID=America/Chicago:20260521T190000
DTEND;TZID=America/Chicago:20260521T210000
DTSTAMP:20260420T005911
CREATED:20260415T213652Z
LAST-MODIFIED:20260415T213652Z
UID:68875-1779390000-1779397200@martincitytelegraph.com
SUMMARY:Thursday Bingo Night @ Transparent Brewing Company
DESCRIPTION:Thursday nights just got a whole lot better! Join us every week for Bingo Night hosted by brewery owner Nolan Brown. It’s Nacho Average Thursday\, so come hungry and take advantage of discounted Loaded Nachos\, grab a dauber\, and get ready for a night of games\, pints\, and local flavor. Happy Hour runs 3:00-6:00 PM with $1 off all full pours. Bingo starts at 7:00 PM. No buy-in required — just show up\, grab a beer\, and play to win! Located at Transparent Brewing Co.\, 14501 White Ave.\, Grandview\, MO 64030.
URL:https://martincitytelegraph.com/calendar/thursday-bingo-night-transparent-brewing-company-6/
LOCATION:Transparent Brewing Company\, 14501 White ave\, Grandview\, MO\, United States
END:VEVENT
BEGIN:VEVENT
DTSTART;TZID=America/Chicago:20260521T190000
DTEND;TZID=America/Chicago:20260521T213000
DTSTAMP:20260420T005911
CREATED:20260412T235453Z
LAST-MODIFIED:20260412T235453Z
UID:68638-1779390000-1779399000@martincitytelegraph.com
SUMMARY:The Addams Family @ Goppert Theater
DESCRIPTION:The Addams Family\, a comical feast that embraces the wackiness in every family\, features an original story and a dilemma that’s every father’s nightmare: Wednesday Addams\, the ultimate princess of darkness\, has grown up and fallen in love with a sweet\, smart young man from a respectable family — a man her parents have never met. And if that wasn’t upsetting enough\, Wednesday confides in her father and begs him not to tell her mother. Now\, Gomez Addams must do something he’s never done before — keep a secret from his beloved wife\, Morticia. Everything will change for the whole family on the fateful night they host a dinner for Wednesday’s ‘normal’ boyfriend and his parents. Book by Marshall Brickman and Rick Elice. Music and Lyrics by Andrew Lippa. Based on Characters Created by Charles Addams. Directed by Michelle Evans. Music Director: Maddie Jenkins. Choreographer: Paige Zars. Run time approximately 2 hours and 30 minutes with one 15-minute intermission. Presented at Avila University’s Goppert Theater. Sponsored by Rebecca & William Ward & Family.
URL:https://martincitytelegraph.com/calendar/the-addams-family-goppert-theater/
LOCATION:Goppert Theater\, United States
END:VEVENT
BEGIN:VEVENT
DTSTART;TZID=America/Chicago:20260521T190000
DTEND;TZID=America/Chicago:20260521T220000
DTSTAMP:20260420T005911
CREATED:20260412T220132Z
LAST-MODIFIED:20260412T220132Z
UID:68565-1779390000-1779400800@martincitytelegraph.com
SUMMARY:Gary Lincoln @ Martin City Brewing Co.
DESCRIPTION:Live music at Martin City Brewing Company! Come enjoy great craft beer\, delicious pizza\, and a fantastic night of live music.
URL:https://martincitytelegraph.com/calendar/gary-lincoln-martin-city-brewing-co-5/
LOCATION:Martin City Brewing Company\, 500 E. 135th Street\, Kansas City\, MO\, United States
END:VEVENT
BEGIN:VEVENT
DTSTART;TZID=America/Chicago:20260521T203000
DTEND;TZID=America/Chicago:20260521T210000
DTSTAMP:20260420T005911
CREATED:20260412T115834Z
LAST-MODIFIED:20260412T115834Z
UID:67843-1779395400-1779397200@martincitytelegraph.com
SUMMARY:Open Mic @ The Comedy Club of KC
DESCRIPTION:Sign up between 8:30pm and 9:00pm. 3 minute sets. Bucket draw.
URL:https://martincitytelegraph.com/calendar/open-mic-the-comedy-club-of-kc-6/
LOCATION:The Comedy Club of KC\, 1130 W 103 St\, Kansas City\, MO\, 64114
END:VEVENT
BEGIN:VEVENT
DTSTART;TZID=America/Chicago:20260522T080000
DTEND;TZID=America/Chicago:20260522T180000
DTSTAMP:20260420T005911
CREATED:20260412T132936Z
LAST-MODIFIED:20260412T132936Z
UID:68040-1779436800-1779472800@martincitytelegraph.com
SUMMARY:Kid Fit @ Wonderscope
DESCRIPTION:Kid Fit sessions offered at 9:30 am\, 10:30 am\, 1:30 pm\, and 2:30 pm. Free with museum admission or membership. Sign-ups start 30 minutes before class time.
URL:https://martincitytelegraph.com/calendar/kid-fit-wonderscope-8/
LOCATION:The Regnier Family Wonderscope Children’s Museum of Kansas City\, 423 E. Red Bridge Shopping Center
END:VEVENT
BEGIN:VEVENT
DTSTART;TZID=America/Chicago:20260522T100000
DTEND;TZID=America/Chicago:20260522T110000
DTSTAMP:20260420T005911
CREATED:20260412T132936Z
LAST-MODIFIED:20260417T193756Z
UID:68041-1779444000-1779447600@martincitytelegraph.com
SUMMARY:Donutology Day @ Wonderscope
DESCRIPTION:Our friends from Donutology will be here on the 4th Friday of every month\, making fresh donuts for kids to decorate and eat! While supplies last. Included with museum admission or membership.
URL:https://martincitytelegraph.com/calendar/donutology-day-wonderscope-2/
LOCATION:The Regnier Family Wonderscope Children’s Museum of Kansas City\, 423 E. Red Bridge Shopping Center
ATTACH;FMTTYPE=image/jpeg:https://martincitytelegraph.com/wp-content/uploads/2026/04/donutologywonderscope.jpg
END:VEVENT
BEGIN:VEVENT
DTSTART;TZID=America/Chicago:20260522T190000
DTEND;TZID=America/Chicago:20260522T213000
DTSTAMP:20260420T005911
CREATED:20260412T115834Z
LAST-MODIFIED:20260412T130826Z
UID:67844-1779476400-1779485400@martincitytelegraph.com
SUMMARY:DJ Sandhu @ The Comedy Club of KC
DESCRIPTION:Live stand-up comedy with DJ Sandhu. Seating options: Front Row Table for 2 covers admission for 2 people. Preferred Seats are as close to the stage as possible\, held until 5 minutes prior to show. General Admission generally starts in the back half of the showroom. Party Table for 10 is a designated table in the front of the GA section covering admission for up to 10 people (food/drink not included).
URL:https://martincitytelegraph.com/calendar/dj-sandhu-the-comedy-club-of-kc/
LOCATION:The Comedy Club of KC\, 1130 W 103 St\, Kansas City\, MO\, 64114
ATTACH;FMTTYPE=image/png:https://martincitytelegraph.com/wp-content/uploads/2026/04/djsandhu.png
END:VEVENT
BEGIN:VEVENT
DTSTART;TZID=America/Chicago:20260522T190000
DTEND;TZID=America/Chicago:20260522T213000
DTSTAMP:20260420T005911
CREATED:20260412T235454Z
LAST-MODIFIED:20260412T235454Z
UID:68639-1779476400-1779485400@martincitytelegraph.com
SUMMARY:The Addams Family @ Goppert Theater
DESCRIPTION:The Addams Family\, a comical feast that embraces the wackiness in every family\, features an original story and a dilemma that’s every father’s nightmare: Wednesday Addams\, the ultimate princess of darkness\, has grown up and fallen in love with a sweet\, smart young man from a respectable family — a man her parents have never met. And if that wasn’t upsetting enough\, Wednesday confides in her father and begs him not to tell her mother. Now\, Gomez Addams must do something he’s never done before — keep a secret from his beloved wife\, Morticia. Everything will change for the whole family on the fateful night they host a dinner for Wednesday’s ‘normal’ boyfriend and his parents. Book by Marshall Brickman and Rick Elice. Music and Lyrics by Andrew Lippa. Based on Characters Created by Charles Addams. Directed by Michelle Evans. Music Director: Maddie Jenkins. Choreographer: Paige Zars. Run time approximately 2 hours and 30 minutes with one 15-minute intermission. Presented at Avila University’s Goppert Theater. Sponsored by Rebecca & William Ward & Family.
URL:https://martincitytelegraph.com/calendar/the-addams-family-goppert-theater-2/
LOCATION:Goppert Theater\, United States
END:VEVENT
BEGIN:VEVENT
DTSTART;TZID=America/Chicago:20260522T190000
DTEND;TZID=America/Chicago:20260522T220000
DTSTAMP:20260420T005911
CREATED:20260412T220137Z
LAST-MODIFIED:20260412T220137Z
UID:68566-1779476400-1779487200@martincitytelegraph.com
SUMMARY:Brian Jones @ Martin City Brewing Co.
DESCRIPTION:Live music at Martin City Brewing Company! Come enjoy great craft beer\, delicious pizza\, and a fantastic night of live music.
URL:https://martincitytelegraph.com/calendar/brian-jones-martin-city-brewing-co-2/
LOCATION:Martin City Brewing Company\, 500 E. 135th Street\, Kansas City\, MO\, United States
END:VEVENT
BEGIN:VEVENT
DTSTART;TZID=America/Chicago:20260522T200000
DTEND;TZID=America/Chicago:20260522T230000
DTSTAMP:20260420T005911
CREATED:20260412T213051Z
LAST-MODIFIED:20260412T213051Z
UID:68407-1779480000-1779490800@martincitytelegraph.com
SUMMARY:Karaoke Night @ Tanner's
DESCRIPTION:Join us every Friday at 8 PM for Karaoke Night at Tanner’s! Whether you’re a rockstar\, a shower singer\, or just here for the laughs\, the stage is yours. Come out and show KC what you’ve got!
URL:https://martincitytelegraph.com/calendar/karaoke-night-tanners-6/
LOCATION:Tanner’s\, 11134 Holmes Rd\, Kansas City\, MO\, 64131
END:VEVENT
BEGIN:VEVENT
DTSTART;TZID=America/Chicago:20260523T100000
DTEND;TZID=America/Chicago:20260523T110000
DTSTAMP:20260420T005911
CREATED:20260412T025447Z
LAST-MODIFIED:20260412T025447Z
UID:67657-1779530400-1779534000@martincitytelegraph.com
SUMMARY:Bunco! @Belton Library
DESCRIPTION:Come and enjoy an entertaining game of Bunco! Are you new to the game? Come learn how to play! Are you a pro Bunco player? Come teach others how to play! Let the dice roll\, meet friends\, and win some cool prizes. Intended for ages 18 and up.
URL:https://martincitytelegraph.com/calendar/bunco-belton-library-3/
LOCATION:Cass County Public Library Northern Resource Center\, 1741 E North Ave\, Belton\, MO\, United States
END:VEVENT
BEGIN:VEVENT
DTSTART;TZID=America/Chicago:20260523T100000
DTEND;TZID=America/Chicago:20260523T120000
DTSTAMP:20260420T005911
CREATED:20260412T215452Z
LAST-MODIFIED:20260413T013505Z
UID:68529-1779530400-1779537600@martincitytelegraph.com
SUMMARY:The Road to Independence Speaker Series @ Leawood Community Center
DESCRIPTION:The Road to Independence Speaker Series\n\n\n\n\n\n\n\nThe Leawood Historic Commission is pleased to present a series of presentations about the Revolutionary War and the Declaration of Independence. The series will begin in March and continue on the final Saturday of each month at 10 a.m. through July: March 28\, April 25\, May 30\, June 27\, July 25. A speaker will present a different topic about the Revolutionary War and the Declaration of Independence at Leawood City Hall in the Oak Room. \n\nThe series continues on May 25th with a presentation by Mitch Lohr on “The Hard Part Begins: Inventing an American Nation after Independence”. Lohr will discuss the political and cultural aftermath of the Revolution and how Americans created a new nation. \nAfter the guns fell silent in 1783\, Americans faced a problem they had never resolved before: how to turn a revolution into a functioning nation. This talk explores the political chaos\, economic uncertainty\, social change\, and cultural debates that followed independence. From arguments over loyalty and liberty to the creation of the Constitution. The United States had to examine what independence actually meant and decide what kind of people Americans would become. \nMitch Lohr is a writer and history professional specializing in American political and cultural history. He earned his M.A. in History from DePaul University\, where his research focused on how Americans understood citizenship\, identity\, and national purpose in the nineteenth and twentieth centuries. \nWhile living in Washington\, D.C.\, he worked as an educator with the Smithsonian National Museum of American History and led tours of the United States Capitol. He currently volunteers with the National WWI Museum and Memorial\, serves on the Leawood Historic Commission\, and produces educational historical content aimed at connecting modern audiences to the past.
URL:https://martincitytelegraph.com/calendar/the-road-to-independence-speaker-series-leawood-community-center-2/
LOCATION:Leawood Community Center\, 4800 Town Center Dr\,\, Leawood\, KS\, 66211\, United States
END:VEVENT
BEGIN:VEVENT
DTSTART;TZID=America/Chicago:20260523T110000
DTEND;TZID=America/Chicago:20260523T120000
DTSTAMP:20260420T005911
CREATED:20260412T133157Z
LAST-MODIFIED:20260412T133157Z
UID:68092-1779534000-1779537600@martincitytelegraph.com
SUMMARY:Train Ride @ Belton Railroad
DESCRIPTION:Take a step back in time to the Golden Age of Travel and ride a train like your grandparents\, or even your grandparent’s grandparents\, may have traveled on! From our 1920s era passenger coach\, our open-air excursion car\, to our 1950s Diesel locomotive\, riding with us through Old Towne Belton\, MO is a blast from the past! Ticket Prices: Ages 3 & under FREE | Ages 4-10: $10 | Ages 11+: $17. Looking for something extra special? Ride in the Caboose for $50 or ride in the Engine for $75 (tickets limited for each departure).
URL:https://martincitytelegraph.com/calendar/train-ride-belton-railroad-10/
LOCATION:Belton Railroad\, 502 E. Walnut
END:VEVENT
BEGIN:VEVENT
DTSTART;TZID=America/Chicago:20260523T140000
DTEND;TZID=America/Chicago:20260523T150000
DTSTAMP:20260420T005911
CREATED:20260412T133214Z
LAST-MODIFIED:20260412T133214Z
UID:68093-1779544800-1779548400@martincitytelegraph.com
SUMMARY:Train Ride @ Belton Railroad
DESCRIPTION:Take a step back in time to the Golden Age of Travel and ride a train like your grandparents\, or even your grandparent’s grandparents\, may have traveled on! From our 1920s era passenger coach\, our open-air excursion car\, to our 1950s Diesel locomotive\, riding with us through Old Towne Belton\, MO is a blast from the past! Ticket Prices: Ages 3 & under FREE | Ages 4-10: $10 | Ages 11+: $17. Looking for something extra special? Ride in the Caboose for $50 or ride in the Engine for $75 (tickets limited for each departure).
URL:https://martincitytelegraph.com/calendar/train-ride-belton-railroad-11/
LOCATION:Belton Railroad\, 502 E. Walnut
END:VEVENT
BEGIN:VEVENT
DTSTART;TZID=America/Chicago:20260523T140000
DTEND;TZID=America/Chicago:20260523T163000
DTSTAMP:20260420T005911
CREATED:20260412T235454Z
LAST-MODIFIED:20260412T235454Z
UID:68640-1779544800-1779553800@martincitytelegraph.com
SUMMARY:The Addams Family @ Goppert Theater
DESCRIPTION:The Addams Family\, a comical feast that embraces the wackiness in every family\, features an original story and a dilemma that’s every father’s nightmare: Wednesday Addams\, the ultimate princess of darkness\, has grown up and fallen in love with a sweet\, smart young man from a respectable family — a man her parents have never met. And if that wasn’t upsetting enough\, Wednesday confides in her father and begs him not to tell her mother. Now\, Gomez Addams must do something he’s never done before — keep a secret from his beloved wife\, Morticia. Everything will change for the whole family on the fateful night they host a dinner for Wednesday’s ‘normal’ boyfriend and his parents. Book by Marshall Brickman and Rick Elice. Music and Lyrics by Andrew Lippa. Based on Characters Created by Charles Addams. Directed by Michelle Evans. Music Director: Maddie Jenkins. Choreographer: Paige Zars. Run time approximately 2 hours and 30 minutes with one 15-minute intermission. Presented at Avila University’s Goppert Theater. Sponsored by Rebecca & William Ward & Family.
URL:https://martincitytelegraph.com/calendar/the-addams-family-goppert-theater-3/
LOCATION:Goppert Theater\, United States
END:VEVENT
BEGIN:VEVENT
DTSTART;TZID=America/Chicago:20260523T140000
DTEND;TZID=America/Chicago:20260523T164500
DTSTAMP:20260420T005911
CREATED:20260412T025447Z
LAST-MODIFIED:20260412T025447Z
UID:67658-1779544800-1779554700@martincitytelegraph.com
SUMMARY:Adult Dungeons and Dragons @Belton Library
DESCRIPTION:Enter a world where adventure awaits with Dungeons and Dragons at the library. Interact with wizards and clerics\, trolls and elves…and other adults. Bring your own dice and character sheet if you have them. Intended for ages 18 and up.
URL:https://martincitytelegraph.com/calendar/adult-dungeons-and-dragons-belton-library-6/
LOCATION:Cass County Public Library Northern Resource Center\, 1741 E North Ave\, Belton\, MO\, United States
END:VEVENT
BEGIN:VEVENT
DTSTART;TZID=America/Chicago:20260523T140000
DTEND;TZID=America/Chicago:20260523T170000
DTSTAMP:20260420T005911
CREATED:20260412T031917Z
LAST-MODIFIED:20260412T121620Z
UID:67771-1779544800-1779555600@martincitytelegraph.com
SUMMARY:Mama Ray's Legacy Jam Featuring Lori Tucker @ BB's Lawnside BBQ
DESCRIPTION:Come jam with the crew every Saturday! Sign up with Lori and she will get you up on stage. No better jam in town! No Cover.
URL:https://martincitytelegraph.com/calendar/mama-rays-legacy-jam-featuring-lori-tucker-bbs-lawnside-bbq-8/
LOCATION:BB’s Lawnside\, 1205 E. 85th Street
ATTACH;FMTTYPE=image/jpeg:https://martincitytelegraph.com/wp-content/uploads/2026/04/lori-and-jay.jpg
END:VEVENT
BEGIN:VEVENT
DTSTART;TZID=America/Chicago:20260523T150000
DTEND;TZID=America/Chicago:20260523T170000
DTSTAMP:20260420T005911
CREATED:20260412T214221Z
LAST-MODIFIED:20260412T214221Z
UID:68455-1779548400-1779555600@martincitytelegraph.com
SUMMARY:Live Polka with Bram Wijnands @ KC Bier Co
DESCRIPTION:Enjoy fresh\, authentic German-style bier and a spread of Bavarian pretzels\, sausages\, and other favorites every Saturday in the Biergarten\, featuring live polka and German drinking songs with Bram Wijnands (and sometimes a special guest or two)! Live polka is rain or shine – the music will move indoors to the Bierhalle if needed. Free admission!
URL:https://martincitytelegraph.com/calendar/live-polka-with-bram-wijnands-kc-bier-co-6/
LOCATION:KC Bier Co\, 310 W. 79th Street
END:VEVENT
BEGIN:VEVENT
DTSTART;TZID=America/Chicago:20260523T180000
DTEND;TZID=America/Chicago:20260523T203000
DTSTAMP:20260420T005911
CREATED:20260412T115834Z
LAST-MODIFIED:20260412T130757Z
UID:67845-1779559200-1779568200@martincitytelegraph.com
SUMMARY:DJ Sandhu @ The Comedy Club of KC
DESCRIPTION:Live stand-up comedy with DJ Sandhu. Seating options: Front Row Table for 2 covers admission for 2 people. Preferred Seats are as close to the stage as possible\, held until 5 minutes prior to show. General Admission generally starts in the back half of the showroom. Party Table for 10 is a designated table in the front of the GA section covering admission for up to 10 people (food/drink not included).
URL:https://martincitytelegraph.com/calendar/dj-sandhu-the-comedy-club-of-kc-2/
LOCATION:The Comedy Club of KC\, 1130 W 103 St\, Kansas City\, MO\, 64114
ATTACH;FMTTYPE=image/png:https://martincitytelegraph.com/wp-content/uploads/2026/04/djsandhu.png
END:VEVENT
BEGIN:VEVENT
DTSTART;TZID=America/Chicago:20260523T190000
DTEND;TZID=America/Chicago:20260523T190000
DTSTAMP:20260420T005911
CREATED:20260412T212749Z
LAST-MODIFIED:20260412T212749Z
UID:68381-1779562800-1779562800@martincitytelegraph.com
SUMMARY:Poker Night @ The Limit Pub & Grub
DESCRIPTION:Try your luck at our weekly Saturday night Poker! Only a $5 buy-in. New to poker? No problem — contact us about our upcoming beginner class! Every Saturday night at The Limit Pub & Grub.
URL:https://martincitytelegraph.com/calendar/poker-night-the-limit-pub-grub-6/
END:VEVENT
BEGIN:VEVENT
DTSTART;TZID=America/Chicago:20260523T190000
DTEND;TZID=America/Chicago:20260523T213000
DTSTAMP:20260420T005911
CREATED:20260412T235454Z
LAST-MODIFIED:20260412T235454Z
UID:68641-1779562800-1779571800@martincitytelegraph.com
SUMMARY:The Addams Family @ Goppert Theater
DESCRIPTION:The Addams Family\, a comical feast that embraces the wackiness in every family\, features an original story and a dilemma that’s every father’s nightmare: Wednesday Addams\, the ultimate princess of darkness\, has grown up and fallen in love with a sweet\, smart young man from a respectable family — a man her parents have never met. And if that wasn’t upsetting enough\, Wednesday confides in her father and begs him not to tell her mother. Now\, Gomez Addams must do something he’s never done before — keep a secret from his beloved wife\, Morticia. Everything will change for the whole family on the fateful night they host a dinner for Wednesday’s ‘normal’ boyfriend and his parents. Book by Marshall Brickman and Rick Elice. Music and Lyrics by Andrew Lippa. Based on Characters Created by Charles Addams. Directed by Michelle Evans. Music Director: Maddie Jenkins. Choreographer: Paige Zars. Run time approximately 2 hours and 30 minutes with one 15-minute intermission. Presented at Avila University’s Goppert Theater. Sponsored by Rebecca & William Ward & Family.
URL:https://martincitytelegraph.com/calendar/the-addams-family-goppert-theater-4/
LOCATION:Goppert Theater\, United States
END:VEVENT
BEGIN:VEVENT
DTSTART;TZID=America/Chicago:20260523T190000
DTEND;TZID=America/Chicago:20260523T220000
DTSTAMP:20260420T005911
CREATED:20260412T220137Z
LAST-MODIFIED:20260412T220137Z
UID:68567-1779562800-1779573600@martincitytelegraph.com
SUMMARY:Hazy Fate @ Martin City Brewing Co.
DESCRIPTION:Live music at Martin City Brewing Company! Come enjoy great craft beer\, delicious pizza\, and a fantastic night of live music.
URL:https://martincitytelegraph.com/calendar/hazy-fate-martin-city-brewing-co-3/
LOCATION:Martin City Brewing Company\, 500 E. 135th Street\, Kansas City\, MO\, United States
END:VEVENT
BEGIN:VEVENT
DTSTART;TZID=America/Chicago:20260524T110000
DTEND;TZID=America/Chicago:20260524T170000
DTSTAMP:20260420T005911
CREATED:20260415T213652Z
LAST-MODIFIED:20260415T213652Z
UID:68876-1779620400-1779642000@martincitytelegraph.com
SUMMARY:Stained Glass Workshop @ Transparent Brewing Company
DESCRIPTION:By popular demand\, a second date has been added for this sold-out workshop! Join Darleen Schillaci of Artistained Glass for a 6-hour intensive Stained Glass Workshop teaching the Tiffany Style copper foil method from start to finish. You will learn precision cutting\, copper foiling\, soldering\, troubleshooting\, and professional finishing techniques. Your ticket includes all glass\, tools\, and safety supplies\, plus your choice of design. Space is strictly limited to 8 participants for personalized instruction. Closed-toe shoes required. Craft beers and food available for purchase. Register via the ticket link. Located at The IPA at Transparent Brewing Co.\, 14501 White Ave.\, Grandview\, MO 64030.
URL:https://martincitytelegraph.com/calendar/stained-glass-workshop-transparent-brewing-company/
LOCATION:Transparent Brewing Company\, 14501 White ave\, Grandview\, MO\, United States
END:VEVENT
BEGIN:VEVENT
DTSTART;TZID=America/Chicago:20260524T130000
DTEND;TZID=America/Chicago:20260524T150000
DTSTAMP:20260420T005911
CREATED:20260412T214221Z
LAST-MODIFIED:20260412T214221Z
UID:68456-1779627600-1779634800@martincitytelegraph.com
SUMMARY:Let's Get Trivial: Sunday Trivia @ KC Bier Co
DESCRIPTION:Join us for FREE general knowledge Trivia with Let’s Get Trivial every Sunday from 1:00-3:00 PM! Prizes for the top 3 teams. Seating is first-come\, first-serve.
URL:https://martincitytelegraph.com/calendar/lets-get-trivial-sunday-trivia-kc-bier-co-6/
LOCATION:KC Bier Co\, 310 W. 79th Street
END:VEVENT
BEGIN:VEVENT
DTSTART;TZID=America/Chicago:20260524T140000
DTEND;TZID=America/Chicago:20260524T150000
DTSTAMP:20260420T005911
CREATED:20260412T133215Z
LAST-MODIFIED:20260412T133215Z
UID:68094-1779631200-1779634800@martincitytelegraph.com
SUMMARY:Train Ride @ Belton Railroad
DESCRIPTION:Take a step back in time to the Golden Age of Travel and ride a train like your grandparents\, or even your grandparent’s grandparents\, may have traveled on! From our 1920s era passenger coach\, our open-air excursion car\, to our 1950s Diesel locomotive\, riding with us through Old Towne Belton\, MO is a blast from the past! Ticket Prices: Ages 3 & under FREE | Ages 4-10: $10 | Ages 11+: $17. Looking for something extra special? Ride in the Caboose for $50 or ride in the Engine for $75 (tickets limited for each departure).
URL:https://martincitytelegraph.com/calendar/train-ride-belton-railroad-12/
LOCATION:Belton Railroad\, 502 E. Walnut
END:VEVENT
END:VCALENDAR