BEGIN:VCALENDAR
VERSION:2.0
PRODID:-//Martin City Telegraph - ECPv6.15.17.1//NONSGML v1.0//EN
CALSCALE:GREGORIAN
METHOD:PUBLISH
X-WR-CALNAME:Martin City Telegraph
X-ORIGINAL-URL:https://martincitytelegraph.com
X-WR-CALDESC:Events for Martin City Telegraph
REFRESH-INTERVAL;VALUE=DURATION:PT1H
X-Robots-Tag:noindex
X-PUBLISHED-TTL:PT1H
BEGIN:VTIMEZONE
TZID:America/Chicago
BEGIN:DAYLIGHT
TZOFFSETFROM:-0600
TZOFFSETTO:-0500
TZNAME:CDT
DTSTART:20250309T080000
END:DAYLIGHT
BEGIN:STANDARD
TZOFFSETFROM:-0500
TZOFFSETTO:-0600
TZNAME:CST
DTSTART:20251102T070000
END:STANDARD
BEGIN:DAYLIGHT
TZOFFSETFROM:-0600
TZOFFSETTO:-0500
TZNAME:CDT
DTSTART:20260308T080000
END:DAYLIGHT
BEGIN:STANDARD
TZOFFSETFROM:-0500
TZOFFSETTO:-0600
TZNAME:CST
DTSTART:20261101T070000
END:STANDARD
BEGIN:DAYLIGHT
TZOFFSETFROM:-0600
TZOFFSETTO:-0500
TZNAME:CDT
DTSTART:20270314T080000
END:DAYLIGHT
BEGIN:STANDARD
TZOFFSETFROM:-0500
TZOFFSETTO:-0600
TZNAME:CST
DTSTART:20271107T070000
END:STANDARD
END:VTIMEZONE
BEGIN:VEVENT
DTSTART;TZID=America/Chicago:20260413T180000
DTEND;TZID=America/Chicago:20260413T210000
DTSTAMP:20260420T010310
CREATED:20260412T221003Z
LAST-MODIFIED:20260412T221003Z
UID:68598-1776103200-1776114000@martincitytelegraph.com
SUMMARY:Monday Night Music Bingo @ Waldo Pizza
DESCRIPTION:Join us for Monday Night Music Bingo at Waldo Pizza! Enjoy our all-night pizza and salad buffet for $15.99 while you compete against other players for the prize! Bingo Special: 14″ Specialty Pizza and a pitcher of local draft beer for $40.
URL:https://martincitytelegraph.com/calendar/monday-night-music-bingo-waldo-pizza/
LOCATION:Waldo Pizza\, 7433 Broadway St\,\, Kansas City\, MO\, United States
END:VEVENT
BEGIN:VEVENT
DTSTART;TZID=America/Chicago:20260413T100000
DTEND;TZID=America/Chicago:20260413T120000
DTSTAMP:20260420T010310
CREATED:20260412T132119Z
LAST-MODIFIED:20260412T132119Z
UID:67994-1776074400-1776081600@martincitytelegraph.com
SUMMARY:Sensory Friendly Mondays @ Wonderscope
DESCRIPTION:Wonderscope has created this unique opportunity for individual families with children who have a breadth of sensory concerns that would benefit from a more controlled play space. To ensure a positive experience for our guests with sensory concerns\, only families with children who have sensory needs may make a reservation for Sensory Friendly Mondays. Visit our Accessibility page to find Planning Your Day resources.
URL:https://martincitytelegraph.com/calendar/sensory-friendly-mondays-wonderscope/
LOCATION:The Regnier Family Wonderscope Children’s Museum of Kansas City\, 423 E. Red Bridge Shopping Center
END:VEVENT
BEGIN:VEVENT
DTSTART;TZID=America/Chicago:20260412T190000
DTEND;TZID=America/Chicago:20260412T210000
DTSTAMP:20260420T010310
CREATED:20260412T212333Z
LAST-MODIFIED:20260412T212333Z
UID:68323-1776020400-1776027600@martincitytelegraph.com
SUMMARY:Trivia Night @ Coach's Bar and Grill
DESCRIPTION:Trivia night is back at Coach’s Bar and Grill every Sunday at 7:00 PM! Best of all? It’s completely free to play with great prizes up for grabs. Round up your crew\, warm up those brain cells\, and get ready for a fun night of friendly competition!
URL:https://martincitytelegraph.com/calendar/trivia-night-coachs-bar-and-grill/
LOCATION:Coach’s Bar and Grill\, 9089 W 135th St\, Overland Park\, KS\, United States
END:VEVENT
BEGIN:VEVENT
DTSTART;TZID=America/Chicago:20260412T180000
DTEND;TZID=America/Chicago:20260412T210000
DTSTAMP:20260420T010310
CREATED:20260412T220002Z
LAST-MODIFIED:20260412T220002Z
UID:68546-1776016800-1776027600@martincitytelegraph.com
SUMMARY:Kurt Caldwell @ Martin City Brewing Co.
DESCRIPTION:Live music at Martin City Brewing Company! Come enjoy great craft beer\, delicious pizza\, and a fantastic night of live music.
URL:https://martincitytelegraph.com/calendar/kurt-caldwell-martin-city-brewing-co-2/
LOCATION:Martin City Brewing Company\, 500 E. 135th Street\, Kansas City\, MO\, United States
END:VEVENT
BEGIN:VEVENT
DTSTART;TZID=America/Chicago:20260412T170000
DTEND;TZID=America/Chicago:20260412T190000
DTSTAMP:20260420T010310
CREATED:20260412T031705Z
LAST-MODIFIED:20260412T125103Z
UID:67730-1776013200-1776020400@martincitytelegraph.com
SUMMARY:Drum & Dye Duo @ BB's Lawnside BBQ
DESCRIPTION:Harmonica & guitar duo packed with passion & talent! No Cover.
URL:https://martincitytelegraph.com/calendar/drum-dye-duo-bbs-lawnside-bbq/
LOCATION:BB’s Lawnside\, 1205 E. 85th Street
ATTACH;FMTTYPE=image/jpeg:https://martincitytelegraph.com/wp-content/uploads/2026/04/DRUM-DYE-DUO-2.jpg
END:VEVENT
BEGIN:VEVENT
DTSTART;TZID=America/Chicago:20260412T140000
DTEND;TZID=America/Chicago:20260412T170000
DTSTAMP:20260420T010310
CREATED:20260409T201742Z
LAST-MODIFIED:20260409T201742Z
UID:67416-1776002400-1776013200@martincitytelegraph.com
SUMMARY:Chamber Music Diversified @ Pinnacle Winds
DESCRIPTION:Join Pinnacle Winds this Sunday for a vibrant and intimate concert experience that brings chamber music into focus. \nChamber Music Diversified features four dynamic ensembles\, each offering a unique voice and musical perspective: \nBrass Quintet\nSaxophone Quartet\nWoodwind Quintet\nHarmoniemusik Ensemble (Wind Octet) \nFrom the timeless elegance of Mozart’s Serenade No. 11 in E-flat Major to the powerful expression of David Maslanka’s Songs for the Coming Day\, this program is a rich spectrum of sound and color. \nTickets\n$20 General Admission\n$10 Students & Seniors \nAvailable online and at the door.
URL:https://martincitytelegraph.com/calendar/chamber-music-diversified-pinnacle-winds/
LOCATION:St Peter & All Saints Episcopal Church\, 100 East Red Bridge Road\, Kansas City\, MO
END:VEVENT
BEGIN:VEVENT
DTSTART;TZID=America/Chicago:20260412T120000
DTEND;TZID=America/Chicago:20260412T170000
DTSTAMP:20260420T010310
CREATED:20260409T201323Z
LAST-MODIFIED:20260409T201323Z
UID:67412-1775995200-1776013200@martincitytelegraph.com
SUMMARY:Flights of Fancy Mega-Kite Festival @ MCC-Longview
DESCRIPTION:The free\, family-friendly event marks its 18th year and features large-scale kites flown by Great American Kites & Events across the expansive lawn at MCC-Longview during National Kite Month. Spectators can watch mega-kites\, power kites and stunt kites soar above the campus throughout the afternoon. \n\nIn addition to kite displays\, the festival will include inflatable games\, face painting and children’s activities. Food and refreshments will be available for purchase from local food trucks. \n\nGuests are encouraged to bring their own kites to fly or purchase kites at the event while supplies last. \n\nParking for attendees will be available on the north and east sides of the MCC-Longview campus. \nSupport from event sponsors allows the college to keep the festival free for the community while also helping support student scholarships. \n\nThe festival began in 2006 when former MCC-Longview President Fred Grogan envisioned inviting the community to campus to fly kites and enjoy the college’s open green space. \n\nFlights of Fancy will be held rain or shine. In the event of severe weather with thunder and lightning\, the festival will be canceled. Updates will be posted on the Flights of Fancy Facebook page\, MCCFlightsofFancy.
URL:https://martincitytelegraph.com/calendar/flights-of-fancy-mega-kite-festival-mcc-longview/
LOCATION:MCC Longview\, 500 S.W. Longview Road
END:VEVENT
BEGIN:VEVENT
DTSTART;TZID=America/Chicago:20260411T190000
DTEND;TZID=America/Chicago:20260411T220000
DTSTAMP:20260420T010310
CREATED:20260412T215959Z
LAST-MODIFIED:20260412T215959Z
UID:68545-1775934000-1775944800@martincitytelegraph.com
SUMMARY:The Underdogs @ Martin City Brewing Co.
DESCRIPTION:Live music at Martin City Brewing Company! Come enjoy great craft beer\, delicious pizza\, and a fantastic night of live music.
URL:https://martincitytelegraph.com/calendar/the-underdogs-martin-city-brewing-co/
LOCATION:Martin City Brewing Company\, 500 E. 135th Street\, Kansas City\, MO\, United States
END:VEVENT
BEGIN:VEVENT
DTSTART;TZID=America/Chicago:20260411T190000
DTEND;TZID=America/Chicago:20260411T220000
DTSTAMP:20260420T010310
CREATED:20260408T210941Z
LAST-MODIFIED:20260408T210941Z
UID:67382-1775934000-1775944800@martincitytelegraph.com
SUMMARY:Bobby Braswell @ Rosehill Winery
DESCRIPTION:Hear the folk and acoustic stylings of Bobby Braswell from 7 p.m. until 10 p.m. on Saturday\, April 11\, at Rosehill Winery.
URL:https://martincitytelegraph.com/calendar/bobby-braswell-rosehill-winery-3/
LOCATION:Rosehill Winery
END:VEVENT
BEGIN:VEVENT
DTSTART;TZID=America/Chicago:20260411T140000
DTEND;TZID=America/Chicago:20260411T170000
DTSTAMP:20260420T010310
CREATED:20260408T210731Z
LAST-MODIFIED:20260408T210731Z
UID:67378-1775916000-1775926800@martincitytelegraph.com
SUMMARY:Clara Lynch @ Rosehill Winery
DESCRIPTION:Hear the folk and acoustic stylings of Clara Lynch from 2 p.m. until 5 p.m. on Saturday\, April 11\, at Rosehill Winery.
URL:https://martincitytelegraph.com/calendar/clara-lynch-rosehill-winery/
LOCATION:Rosehill Winery
ATTACH;FMTTYPE=image/jpeg:https://martincitytelegraph.com/wp-content/uploads/2026/04/639124128_122190902354951170_1458922022651029507_n.jpg
END:VEVENT
BEGIN:VEVENT
DTSTART;TZID=America/Chicago:20260411T140000
DTEND;TZID=America/Chicago:20260411T164500
DTSTAMP:20260420T010310
CREATED:20260412T025220Z
LAST-MODIFIED:20260412T025220Z
UID:67642-1775916000-1775925900@martincitytelegraph.com
SUMMARY:Adult Dungeons and Dragons @Belton Library
DESCRIPTION:Enter a world where adventure awaits with Dungeons and Dragons at the library. Interact with wizards and clerics\, trolls and elves…and other adults. Bring your own dice and character sheet if you have them. Intended for ages 18 and up.
URL:https://martincitytelegraph.com/calendar/adult-dungeons-and-dragons-belton-library-3/
LOCATION:Cass County Public Library Northern Resource Center\, 1741 E North Ave\, Belton\, MO\, United States
END:VEVENT
BEGIN:VEVENT
DTSTART;TZID=America/Chicago:20260411T140000
DTEND;TZID=America/Chicago:20260411T160000
DTSTAMP:20260420T010310
CREATED:20260318T231415Z
LAST-MODIFIED:20260320T220349Z
UID:66736-1775916000-1775923200@martincitytelegraph.com
SUMMARY:Boxcar Brethren @ Waldo Grain
DESCRIPTION:Waldo Grain Live presents Blue Grass in the Barn with Boxcar Brethren\, a bluegrass music group\, on Saturday\, April 11\, from 2-4  pm. A native plant sale coincides with the concert.
URL:https://martincitytelegraph.com/calendar/boxcar-brethren-waldo-grain-2/
LOCATION:waldo grain
ATTACH;FMTTYPE=image/jpeg:https://martincitytelegraph.com/wp-content/uploads/2026/03/474147175_1109562021182358_5190116268363139727_n-e1773870949241.jpg
END:VEVENT
BEGIN:VEVENT
DTSTART;TZID=America/Chicago:20260411T110000
DTEND;TZID=America/Chicago:20260412T170000
DTSTAMP:20260420T010310
CREATED:20260409T200946Z
LAST-MODIFIED:20260409T200946Z
UID:67409-1775905200-1776013200@martincitytelegraph.com
SUMMARY:Annual Spring Open House & Champagne Sunday Shopping Event @ Gilded Lily
DESCRIPTION:Join us Saturday\, April 11th for our annual Spring Open House! Our lil’ home is overflowing with spring goodness and you might win a basket filled with great things! \nCome see what’s new for your home and garden and enter to win a tea basket raffled off to a lucky shopper. While we are featuring new spring items\, guests can enjoy Harney & Sons Paris iced tea and cookies while French jazz music plays. \nWe will also be hosting a Champagne Shopping Event on Sunday\, April 12th. Sip\, browse\, and linger a little longer to welcome in the season of new beginnings. \nThe store will be open for the Spring Open House from 11am-5pm\, the Champagne Shopping event will run from 12pm-4pm on Sunday. Remember\, if you are unable to make it in-person\, check out our Instagram page and website to shop featured items.
URL:https://martincitytelegraph.com/calendar/annual-spring-open-house-champagne-sunday-shopping-event-gilded-lily/
LOCATION:Gilded Lily\, 612 E 135th St\, Kansas City\, MO\, 64145\, United States
END:VEVENT
BEGIN:VEVENT
DTSTART;TZID=America/Chicago:20260411T110000
DTEND;TZID=America/Chicago:20260411T130000
DTSTAMP:20260420T010310
CREATED:20260412T025220Z
LAST-MODIFIED:20260412T025220Z
UID:67641-1775905200-1775912400@martincitytelegraph.com
SUMMARY:Cookbook Club @Belton Library
DESCRIPTION:If you enjoy cooking and trying new recipes\, join our Cookbook Club! We will make recipes from a different cookbook each meeting\, taste our new dishes\, talk about our favorites\, and make new friends! Please register. Intended for ages 18 and up.
URL:https://martincitytelegraph.com/calendar/cookbook-club-belton-library/
LOCATION:Cass County Public Library Northern Resource Center\, 1741 E North Ave\, Belton\, MO\, United States
END:VEVENT
BEGIN:VEVENT
DTSTART;TZID=America/Chicago:20260411T100000
DTEND;TZID=America/Chicago:20260411T130000
DTSTAMP:20260420T010310
CREATED:20260412T160450Z
LAST-MODIFIED:20260412T160450Z
UID:68128-1775901600-1775912400@martincitytelegraph.com
SUMMARY:Brunch Walk Sip & Shop @ Brookside Shops
DESCRIPTION:Celebrate Brookside shops with the Spring Brunch Walk Sip & Shop! Features wine or other drink samples at participating businesses along with in-store specials and activities. Grab your friends\, visit the Historic Brookside Shops\, and enjoy a great morning out in Brookside! Drink samples must remain in-store\, are available while supplies last\, participants must be 21 or older. Please drink responsibly and don’t drink and drive.
URL:https://martincitytelegraph.com/calendar/brunch-walk-sip-shop-brookside-shops/
LOCATION:Brookside Shops
END:VEVENT
BEGIN:VEVENT
DTSTART;TZID=America/Chicago:20260411T073000
DTEND;TZID=America/Chicago:20260411T170000
DTSTAMP:20260420T010310
CREATED:20260409T202625Z
LAST-MODIFIED:20260409T202625Z
UID:67424-1775892600-1775926800@martincitytelegraph.com
SUMMARY:Rock the Parkway 5K @ Burns & McDonnell
DESCRIPTION:RACE INFO \nSaturday\, April 11 \nHalf-marathon start: 7:30 a.m. \n5K start: 7:50 a.m. \nBurns & McDonnell \n9400 Ward Parkway \nKansas City\, MO \n\nPACKET PICK-UP \nFriday\, April 10 \n11 a.m. – 7 p.m. \nAspiria Campus (new location this year) \n6050 Sprint Parkway \nOverland Park\, KS 66211
URL:https://martincitytelegraph.com/calendar/rock-the-parkway-5k-burns-mcdonnell/
LOCATION:Burns & McDonnell
END:VEVENT
BEGIN:VEVENT
DTSTART;TZID=America/Chicago:20260410T190000
DTEND;TZID=America/Chicago:20260410T220000
DTSTAMP:20260420T010310
CREATED:20260408T210507Z
LAST-MODIFIED:20260408T210507Z
UID:67375-1775847600-1775858400@martincitytelegraph.com
SUMMARY:Heather Price @ Rosehill Winery
DESCRIPTION:Hear the folk and acoustic stylings of Heather Price from 7 p.m. until 10 p.m. on Friday\, April 10\, at Rosehill Winery.
URL:https://martincitytelegraph.com/calendar/heather-price-rosehill-winery-2/
LOCATION:Rosehill Winery
END:VEVENT
BEGIN:VEVENT
DTSTART;TZID=America/Chicago:20260410T190000
DTEND;TZID=America/Chicago:20260410T200000
DTSTAMP:20260420T010310
CREATED:20260412T215959Z
LAST-MODIFIED:20260412T215959Z
UID:68544-1775847600-1775851200@martincitytelegraph.com
SUMMARY:Snot Rockets @ Martin City Brewing Co.
DESCRIPTION:Live music at Martin City Brewing Company! Come enjoy great craft beer\, delicious pizza\, and a fantastic night of live music.
URL:https://martincitytelegraph.com/calendar/snot-rockets-martin-city-brewing-co/
LOCATION:Martin City Brewing Company\, 500 E. 135th Street\, Kansas City\, MO\, United States
END:VEVENT
BEGIN:VEVENT
DTSTART;TZID=America/Chicago:20260410T080000
DTEND;TZID=America/Chicago:20260410T180000
DTSTAMP:20260420T010310
CREATED:20260412T132104Z
LAST-MODIFIED:20260412T132104Z
UID:67993-1775808000-1775844000@martincitytelegraph.com
SUMMARY:Kid Fit @ Wonderscope
DESCRIPTION:Kid Fit sessions offered at 9:30 am\, 10:30 am\, 1:30 pm\, and 2:30 pm. Free with museum admission or membership. Sign-ups start 30 minutes before class time.
URL:https://martincitytelegraph.com/calendar/kid-fit-wonderscope-2/
LOCATION:The Regnier Family Wonderscope Children’s Museum of Kansas City\, 423 E. Red Bridge Shopping Center
END:VEVENT
BEGIN:VEVENT
DTSTART;TZID=America/Chicago:20260409T190000
DTEND;TZID=America/Chicago:20260409T220000
DTSTAMP:20260420T010310
CREATED:20260412T215959Z
LAST-MODIFIED:20260412T215959Z
UID:68543-1775761200-1775772000@martincitytelegraph.com
SUMMARY:Gary Lincoln @ Martin City Brewing Co.
DESCRIPTION:Live music at Martin City Brewing Company! Come enjoy great craft beer\, delicious pizza\, and a fantastic night of live music.
URL:https://martincitytelegraph.com/calendar/gary-lincoln-martin-city-brewing-co/
LOCATION:Martin City Brewing Company\, 500 E. 135th Street\, Kansas City\, MO\, United States
END:VEVENT
BEGIN:VEVENT
DTSTART;TZID=America/Chicago:20260409T160000
DTEND;TZID=America/Chicago:20260409T170000
DTSTAMP:20260420T010310
CREATED:20260412T025220Z
LAST-MODIFIED:20260412T025220Z
UID:67640-1775750400-1775754000@martincitytelegraph.com
SUMMARY:Hooks and Books @Belton Library
DESCRIPTION:Books and yarn…who wouldn’t enjoy this cozy duo? We’ll be diving into a trial run for 7 weeks of this new book club. The idea is to listen to a YA book each month while you crochet\, knit or simply sit back and enjoy the audiobook. Basic crochet instructions will be taught. If you are more advanced in the yarn arts\, share your expertise with others! Crochet hooks\, yarn and warm drinks will be provided. Feel free to bring your own hooks\, yarn\, favorite mug and/or project you are currently working on. Intended for ages 12-18.
URL:https://martincitytelegraph.com/calendar/hooks-and-books-belton-library-5/
LOCATION:Cass County Public Library Northern Resource Center\, 1741 E North Ave\, Belton\, MO\, United States
END:VEVENT
BEGIN:VEVENT
DTSTART;TZID=America/Chicago:20260409T093000
DTEND;TZID=America/Chicago:20260409T150000
DTSTAMP:20260420T010310
CREATED:20260412T132104Z
LAST-MODIFIED:20260412T132104Z
UID:67992-1775727000-1775746800@martincitytelegraph.com
SUMMARY:Art Time @ Wonderscope
DESCRIPTION:Art Time sessions offered at 9:30 am\, 10:30 am\, 1:30 pm\, and 2:30 pm. Free with museum admission or membership. Sign-ups start 30 minutes before class time.
URL:https://martincitytelegraph.com/calendar/art-time-wonderscope-2/
LOCATION:The Regnier Family Wonderscope Children’s Museum of Kansas City\, 423 E. Red Bridge Shopping Center
END:VEVENT
BEGIN:VEVENT
DTSTART;TZID=America/Chicago:20260408T190000
DTEND;TZID=America/Chicago:20260408T210000
DTSTAMP:20260420T010310
CREATED:20260412T221003Z
LAST-MODIFIED:20260412T221003Z
UID:68597-1775674800-1775682000@martincitytelegraph.com
SUMMARY:Oregon Trail Troubadours - Waldo Folk @ Waldo Pizza
DESCRIPTION:Waldo Folk Presents must-see live music in the Tap Room at Waldo Pizza! Shows start at 7:00 PM. Doors open at 5:30 PM. Featuring the Oregon Trail Troubadours — a newly formed super group of Lyal Strickland\, Rachel Laven\, and Daniel Neihoff. From original jigs and lush three-part harmonies into traditional folk ballads\, to tales of the road\, you will be captivated.
URL:https://martincitytelegraph.com/calendar/oregon-trail-troubadours-waldo-folk-waldo-pizza/
LOCATION:Waldo Pizza\, 7433 Broadway St\,\, Kansas City\, MO\, United States
END:VEVENT
BEGIN:VEVENT
DTSTART;TZID=America/Chicago:20260408T183000
DTEND;TZID=America/Chicago:20260408T203000
DTSTAMP:20260420T010310
CREATED:20260412T214051Z
LAST-MODIFIED:20260412T214051Z
UID:68425-1775673000-1775680200@martincitytelegraph.com
SUMMARY:Music Bingo @ KC Bier Co
DESCRIPTION:Join us for free Music Bingo every Wednesday from 6:30-8:30 PM! Two rounds per night with a prize in each round. You must have a device that can connect to the internet to play. Theme: R&B & Radio Hits.
URL:https://martincitytelegraph.com/calendar/music-bingo-kc-bier-co-2/
LOCATION:KC Bier Co\, 310 W. 79th Street
END:VEVENT
BEGIN:VEVENT
DTSTART;TZID=America/Chicago:20260408T180000
DTEND;TZID=America/Chicago:20260408T190000
DTSTAMP:20260420T010310
CREATED:20260412T025219Z
LAST-MODIFIED:20260412T025219Z
UID:67639-1775671200-1775674800@martincitytelegraph.com
SUMMARY:Crimes of Fashion Escape Room @Belton Library
DESCRIPTION:Inspired by the upcoming The Devil Wears Prada 2 release\, you will have 45 minutes to find the missing items (or persons) essential to the release of the newest Runway edition before Miranda finds out. Solve puzzles and unlock clues to escape or…meet your demise! Did you know that The Devil Wears Prada was a book first? Find it on our shelves in the Adult Fiction section with call number F WEI. The Escape Room is intended for ages 12 and up.
URL:https://martincitytelegraph.com/calendar/crimes-of-fashion-escape-room-belton-library-5/
LOCATION:Cass County Public Library Northern Resource Center\, 1741 E North Ave\, Belton\, MO\, United States
END:VEVENT
BEGIN:VEVENT
DTSTART;TZID=America/Chicago:20260408T170000
DTEND;TZID=America/Chicago:20260408T180000
DTSTAMP:20260420T010310
CREATED:20260412T025020Z
LAST-MODIFIED:20260412T025020Z
UID:67638-1775667600-1775671200@martincitytelegraph.com
SUMMARY:Crimes of Fashion Escape Room @Belton Library
DESCRIPTION:Inspired by the upcoming The Devil Wears Prada 2 release\, you will have 45 minutes to find the missing items (or persons) essential to the release of the newest Runway edition before Miranda finds out. Solve puzzles and unlock clues to escape or…meet your demise! Did you know that The Devil Wears Prada was a book first? Find it on our shelves in the Adult Fiction section with call number F WEI. The Escape Room is intended for ages 12 and up.
URL:https://martincitytelegraph.com/calendar/crimes-of-fashion-escape-room-belton-library-4/
LOCATION:Cass County Public Library Northern Resource Center\, 1741 E North Ave\, Belton\, MO\, United States
END:VEVENT
BEGIN:VEVENT
DTSTART;TZID=America/Chicago:20260408T160000
DTEND;TZID=America/Chicago:20260408T170000
DTSTAMP:20260420T010310
CREATED:20260412T025019Z
LAST-MODIFIED:20260412T025019Z
UID:67637-1775664000-1775667600@martincitytelegraph.com
SUMMARY:Crimes of Fashion Escape Room @Belton Library
DESCRIPTION:Inspired by the upcoming The Devil Wears Prada 2 release\, you will have 45 minutes to find the missing items (or persons) essential to the release of the newest Runway edition before Miranda finds out. Solve puzzles and unlock clues to escape or…meet your demise! Did you know that The Devil Wears Prada was a book first? Find it on our shelves in the Adult Fiction section with call number F WEI. The Escape Room is intended for ages 12 and up.
URL:https://martincitytelegraph.com/calendar/crimes-of-fashion-escape-room-belton-library-3/
LOCATION:Cass County Public Library Northern Resource Center\, 1741 E North Ave\, Belton\, MO\, United States
END:VEVENT
BEGIN:VEVENT
DTSTART;TZID=America/Chicago:20260408T150000
DTEND;TZID=America/Chicago:20260408T160000
DTSTAMP:20260420T010310
CREATED:20260412T025019Z
LAST-MODIFIED:20260412T025019Z
UID:67636-1775660400-1775664000@martincitytelegraph.com
SUMMARY:Crimes of Fashion Escape Room @Belton Library
DESCRIPTION:Inspired by the upcoming The Devil Wears Prada 2 release\, you will have 45 minutes to find the missing items (or persons) essential to the release of the newest Runway edition before Miranda finds out. Solve puzzles and unlock clues to escape or…meet your demise! Did you know that The Devil Wears Prada was a book first? Find it on our shelves in the Adult Fiction section with call number F WEI. The Escape Room is intended for ages 12 and up.
URL:https://martincitytelegraph.com/calendar/crimes-of-fashion-escape-room-belton-library-2/
LOCATION:Cass County Public Library Northern Resource Center\, 1741 E North Ave\, Belton\, MO\, United States
END:VEVENT
BEGIN:VEVENT
DTSTART;TZID=America/Chicago:20260408T140000
DTEND;TZID=America/Chicago:20260408T150000
DTSTAMP:20260420T010310
CREATED:20260412T025019Z
LAST-MODIFIED:20260412T025019Z
UID:67635-1775656800-1775660400@martincitytelegraph.com
SUMMARY:Crimes of Fashion Escape Room @Belton Library
DESCRIPTION:Inspired by the upcoming The Devil Wears Prada 2 release\, you will have 45 minutes to find the missing items (or persons) essential to the release of the newest Runway edition before Miranda finds out. Solve puzzles and unlock clues to escape or…meet your demise! Did you know that The Devil Wears Prada was a book first? Find it on our shelves in the Adult Fiction section with call number F WEI. The Escape Room is intended for ages 12 and up.
URL:https://martincitytelegraph.com/calendar/crimes-of-fashion-escape-room-belton-library/
LOCATION:Cass County Public Library Northern Resource Center\, 1741 E North Ave\, Belton\, MO\, United States
END:VEVENT
BEGIN:VEVENT
DTSTART;TZID=America/Chicago:20260408T100000
DTEND;TZID=America/Chicago:20260408T120000
DTSTAMP:20260420T010310
CREATED:20260412T132104Z
LAST-MODIFIED:20260412T132104Z
UID:67991-1775642400-1775649600@martincitytelegraph.com
SUMMARY:Sensational Play @ Wonderscope
DESCRIPTION:Sensory-rich activities led by University of Kansas Occupational Therapy students. Included with museum admission or membership. Wednesdays 10 am – noon.
URL:https://martincitytelegraph.com/calendar/sensational-play-wonderscope-2/
LOCATION:The Regnier Family Wonderscope Children’s Museum of Kansas City\, 423 E. Red Bridge Shopping Center
END:VEVENT
END:VCALENDAR