BEGIN:VCALENDAR
VERSION:2.0
PRODID:-//Martin City Telegraph - ECPv6.15.17.1//NONSGML v1.0//EN
CALSCALE:GREGORIAN
METHOD:PUBLISH
X-ORIGINAL-URL:https://martincitytelegraph.com
X-WR-CALDESC:Events for Martin City Telegraph
REFRESH-INTERVAL;VALUE=DURATION:PT1H
X-Robots-Tag:noindex
X-PUBLISHED-TTL:PT1H
BEGIN:VTIMEZONE
TZID:America/Chicago
BEGIN:DAYLIGHT
TZOFFSETFROM:-0600
TZOFFSETTO:-0500
TZNAME:CDT
DTSTART:20250309T080000
END:DAYLIGHT
BEGIN:STANDARD
TZOFFSETFROM:-0500
TZOFFSETTO:-0600
TZNAME:CST
DTSTART:20251102T070000
END:STANDARD
BEGIN:DAYLIGHT
TZOFFSETFROM:-0600
TZOFFSETTO:-0500
TZNAME:CDT
DTSTART:20260308T080000
END:DAYLIGHT
BEGIN:STANDARD
TZOFFSETFROM:-0500
TZOFFSETTO:-0600
TZNAME:CST
DTSTART:20261101T070000
END:STANDARD
BEGIN:DAYLIGHT
TZOFFSETFROM:-0600
TZOFFSETTO:-0500
TZNAME:CDT
DTSTART:20270314T080000
END:DAYLIGHT
BEGIN:STANDARD
TZOFFSETFROM:-0500
TZOFFSETTO:-0600
TZNAME:CST
DTSTART:20271107T070000
END:STANDARD
END:VTIMEZONE
BEGIN:VEVENT
DTSTART;TZID=America/Chicago:20260523T140000
DTEND;TZID=America/Chicago:20260523T164500
DTSTAMP:20260420T010406
CREATED:20260412T025447Z
LAST-MODIFIED:20260412T025447Z
UID:67658-1779544800-1779554700@martincitytelegraph.com
SUMMARY:Adult Dungeons and Dragons @Belton Library
DESCRIPTION:Enter a world where adventure awaits with Dungeons and Dragons at the library. Interact with wizards and clerics\, trolls and elves…and other adults. Bring your own dice and character sheet if you have them. Intended for ages 18 and up.
URL:https://martincitytelegraph.com/calendar/adult-dungeons-and-dragons-belton-library-6/
LOCATION:Cass County Public Library Northern Resource Center\, 1741 E North Ave\, Belton\, MO\, United States
END:VEVENT
BEGIN:VEVENT
DTSTART;TZID=America/Chicago:20260523T140000
DTEND;TZID=America/Chicago:20260523T170000
DTSTAMP:20260420T010406
CREATED:20260412T031917Z
LAST-MODIFIED:20260412T121620Z
UID:67771-1779544800-1779555600@martincitytelegraph.com
SUMMARY:Mama Ray's Legacy Jam Featuring Lori Tucker @ BB's Lawnside BBQ
DESCRIPTION:Come jam with the crew every Saturday! Sign up with Lori and she will get you up on stage. No better jam in town! No Cover.
URL:https://martincitytelegraph.com/calendar/mama-rays-legacy-jam-featuring-lori-tucker-bbs-lawnside-bbq-8/
LOCATION:BB’s Lawnside\, 1205 E. 85th Street
ATTACH;FMTTYPE=image/jpeg:https://martincitytelegraph.com/wp-content/uploads/2026/04/lori-and-jay.jpg
END:VEVENT
BEGIN:VEVENT
DTSTART;TZID=America/Chicago:20260523T150000
DTEND;TZID=America/Chicago:20260523T170000
DTSTAMP:20260420T010406
CREATED:20260412T214221Z
LAST-MODIFIED:20260412T214221Z
UID:68455-1779548400-1779555600@martincitytelegraph.com
SUMMARY:Live Polka with Bram Wijnands @ KC Bier Co
DESCRIPTION:Enjoy fresh\, authentic German-style bier and a spread of Bavarian pretzels\, sausages\, and other favorites every Saturday in the Biergarten\, featuring live polka and German drinking songs with Bram Wijnands (and sometimes a special guest or two)! Live polka is rain or shine – the music will move indoors to the Bierhalle if needed. Free admission!
URL:https://martincitytelegraph.com/calendar/live-polka-with-bram-wijnands-kc-bier-co-6/
LOCATION:KC Bier Co\, 310 W. 79th Street
END:VEVENT
BEGIN:VEVENT
DTSTART;TZID=America/Chicago:20260523T180000
DTEND;TZID=America/Chicago:20260523T203000
DTSTAMP:20260420T010406
CREATED:20260412T115834Z
LAST-MODIFIED:20260412T130757Z
UID:67845-1779559200-1779568200@martincitytelegraph.com
SUMMARY:DJ Sandhu @ The Comedy Club of KC
DESCRIPTION:Live stand-up comedy with DJ Sandhu. Seating options: Front Row Table for 2 covers admission for 2 people. Preferred Seats are as close to the stage as possible\, held until 5 minutes prior to show. General Admission generally starts in the back half of the showroom. Party Table for 10 is a designated table in the front of the GA section covering admission for up to 10 people (food/drink not included).
URL:https://martincitytelegraph.com/calendar/dj-sandhu-the-comedy-club-of-kc-2/
LOCATION:The Comedy Club of KC\, 1130 W 103 St\, Kansas City\, MO\, 64114
ATTACH;FMTTYPE=image/png:https://martincitytelegraph.com/wp-content/uploads/2026/04/djsandhu.png
END:VEVENT
BEGIN:VEVENT
DTSTART;TZID=America/Chicago:20260523T190000
DTEND;TZID=America/Chicago:20260523T190000
DTSTAMP:20260420T010406
CREATED:20260412T212749Z
LAST-MODIFIED:20260412T212749Z
UID:68381-1779562800-1779562800@martincitytelegraph.com
SUMMARY:Poker Night @ The Limit Pub & Grub
DESCRIPTION:Try your luck at our weekly Saturday night Poker! Only a $5 buy-in. New to poker? No problem — contact us about our upcoming beginner class! Every Saturday night at The Limit Pub & Grub.
URL:https://martincitytelegraph.com/calendar/poker-night-the-limit-pub-grub-6/
END:VEVENT
BEGIN:VEVENT
DTSTART;TZID=America/Chicago:20260523T190000
DTEND;TZID=America/Chicago:20260523T213000
DTSTAMP:20260420T010406
CREATED:20260412T235454Z
LAST-MODIFIED:20260412T235454Z
UID:68641-1779562800-1779571800@martincitytelegraph.com
SUMMARY:The Addams Family @ Goppert Theater
DESCRIPTION:The Addams Family\, a comical feast that embraces the wackiness in every family\, features an original story and a dilemma that’s every father’s nightmare: Wednesday Addams\, the ultimate princess of darkness\, has grown up and fallen in love with a sweet\, smart young man from a respectable family — a man her parents have never met. And if that wasn’t upsetting enough\, Wednesday confides in her father and begs him not to tell her mother. Now\, Gomez Addams must do something he’s never done before — keep a secret from his beloved wife\, Morticia. Everything will change for the whole family on the fateful night they host a dinner for Wednesday’s ‘normal’ boyfriend and his parents. Book by Marshall Brickman and Rick Elice. Music and Lyrics by Andrew Lippa. Based on Characters Created by Charles Addams. Directed by Michelle Evans. Music Director: Maddie Jenkins. Choreographer: Paige Zars. Run time approximately 2 hours and 30 minutes with one 15-minute intermission. Presented at Avila University’s Goppert Theater. Sponsored by Rebecca & William Ward & Family.
URL:https://martincitytelegraph.com/calendar/the-addams-family-goppert-theater-4/
LOCATION:Goppert Theater\, United States
END:VEVENT
BEGIN:VEVENT
DTSTART;TZID=America/Chicago:20260523T190000
DTEND;TZID=America/Chicago:20260523T220000
DTSTAMP:20260420T010406
CREATED:20260412T220137Z
LAST-MODIFIED:20260412T220137Z
UID:68567-1779562800-1779573600@martincitytelegraph.com
SUMMARY:Hazy Fate @ Martin City Brewing Co.
DESCRIPTION:Live music at Martin City Brewing Company! Come enjoy great craft beer\, delicious pizza\, and a fantastic night of live music.
URL:https://martincitytelegraph.com/calendar/hazy-fate-martin-city-brewing-co-3/
LOCATION:Martin City Brewing Company\, 500 E. 135th Street\, Kansas City\, MO\, United States
END:VEVENT
BEGIN:VEVENT
DTSTART;TZID=America/Chicago:20260524T110000
DTEND;TZID=America/Chicago:20260524T170000
DTSTAMP:20260420T010406
CREATED:20260415T213652Z
LAST-MODIFIED:20260415T213652Z
UID:68876-1779620400-1779642000@martincitytelegraph.com
SUMMARY:Stained Glass Workshop @ Transparent Brewing Company
DESCRIPTION:By popular demand\, a second date has been added for this sold-out workshop! Join Darleen Schillaci of Artistained Glass for a 6-hour intensive Stained Glass Workshop teaching the Tiffany Style copper foil method from start to finish. You will learn precision cutting\, copper foiling\, soldering\, troubleshooting\, and professional finishing techniques. Your ticket includes all glass\, tools\, and safety supplies\, plus your choice of design. Space is strictly limited to 8 participants for personalized instruction. Closed-toe shoes required. Craft beers and food available for purchase. Register via the ticket link. Located at The IPA at Transparent Brewing Co.\, 14501 White Ave.\, Grandview\, MO 64030.
URL:https://martincitytelegraph.com/calendar/stained-glass-workshop-transparent-brewing-company/
LOCATION:Transparent Brewing Company\, 14501 White ave\, Grandview\, MO\, United States
END:VEVENT
BEGIN:VEVENT
DTSTART;TZID=America/Chicago:20260524T130000
DTEND;TZID=America/Chicago:20260524T150000
DTSTAMP:20260420T010406
CREATED:20260412T214221Z
LAST-MODIFIED:20260412T214221Z
UID:68456-1779627600-1779634800@martincitytelegraph.com
SUMMARY:Let's Get Trivial: Sunday Trivia @ KC Bier Co
DESCRIPTION:Join us for FREE general knowledge Trivia with Let’s Get Trivial every Sunday from 1:00-3:00 PM! Prizes for the top 3 teams. Seating is first-come\, first-serve.
URL:https://martincitytelegraph.com/calendar/lets-get-trivial-sunday-trivia-kc-bier-co-6/
LOCATION:KC Bier Co\, 310 W. 79th Street
END:VEVENT
BEGIN:VEVENT
DTSTART;TZID=America/Chicago:20260524T140000
DTEND;TZID=America/Chicago:20260524T150000
DTSTAMP:20260420T010406
CREATED:20260412T133215Z
LAST-MODIFIED:20260412T133215Z
UID:68094-1779631200-1779634800@martincitytelegraph.com
SUMMARY:Train Ride @ Belton Railroad
DESCRIPTION:Take a step back in time to the Golden Age of Travel and ride a train like your grandparents\, or even your grandparent’s grandparents\, may have traveled on! From our 1920s era passenger coach\, our open-air excursion car\, to our 1950s Diesel locomotive\, riding with us through Old Towne Belton\, MO is a blast from the past! Ticket Prices: Ages 3 & under FREE | Ages 4-10: $10 | Ages 11+: $17. Looking for something extra special? Ride in the Caboose for $50 or ride in the Engine for $75 (tickets limited for each departure).
URL:https://martincitytelegraph.com/calendar/train-ride-belton-railroad-12/
LOCATION:Belton Railroad\, 502 E. Walnut
END:VEVENT
BEGIN:VEVENT
DTSTART;TZID=America/Chicago:20260524T140000
DTEND;TZID=America/Chicago:20260524T163000
DTSTAMP:20260420T010406
CREATED:20260412T235454Z
LAST-MODIFIED:20260412T235454Z
UID:68642-1779631200-1779640200@martincitytelegraph.com
SUMMARY:The Addams Family @ Goppert Theater
DESCRIPTION:The Addams Family\, a comical feast that embraces the wackiness in every family\, features an original story and a dilemma that’s every father’s nightmare: Wednesday Addams\, the ultimate princess of darkness\, has grown up and fallen in love with a sweet\, smart young man from a respectable family — a man her parents have never met. And if that wasn’t upsetting enough\, Wednesday confides in her father and begs him not to tell her mother. Now\, Gomez Addams must do something he’s never done before — keep a secret from his beloved wife\, Morticia. Everything will change for the whole family on the fateful night they host a dinner for Wednesday’s ‘normal’ boyfriend and his parents. Book by Marshall Brickman and Rick Elice. Music and Lyrics by Andrew Lippa. Based on Characters Created by Charles Addams. Directed by Michelle Evans. Music Director: Maddie Jenkins. Choreographer: Paige Zars. Run time approximately 2 hours and 30 minutes with one 15-minute intermission. Presented at Avila University’s Goppert Theater. Sponsored by Rebecca & William Ward & Family.
URL:https://martincitytelegraph.com/calendar/the-addams-family-goppert-theater-5/
LOCATION:Goppert Theater\, United States
END:VEVENT
BEGIN:VEVENT
DTSTART;TZID=America/Chicago:20260524T170000
DTEND;TZID=America/Chicago:20260524T190000
DTSTAMP:20260420T010406
CREATED:20260412T031918Z
LAST-MODIFIED:20260412T121533Z
UID:67772-1779642000-1779649200@martincitytelegraph.com
SUMMARY:Drum & Dye Duo @ BB's Lawnside BBQ
DESCRIPTION:Harmonica & guitar duo packed with passion & talent! No Cover.
URL:https://martincitytelegraph.com/calendar/drum-dye-duo-bbs-lawnside-bbq-4/
LOCATION:BB’s Lawnside\, 1205 E. 85th Street
ATTACH;FMTTYPE=image/jpeg:https://martincitytelegraph.com/wp-content/uploads/2026/04/DRUM-DYE-DUO-2.jpg
END:VEVENT
BEGIN:VEVENT
DTSTART;TZID=America/Chicago:20260524T180000
DTEND;TZID=America/Chicago:20260524T210000
DTSTAMP:20260420T010406
CREATED:20260412T220137Z
LAST-MODIFIED:20260412T220137Z
UID:68568-1779645600-1779656400@martincitytelegraph.com
SUMMARY:Kurt Caldwell @ Martin City Brewing Co.
DESCRIPTION:Live music at Martin City Brewing Company! Come enjoy great craft beer\, delicious pizza\, and a fantastic night of live music.
URL:https://martincitytelegraph.com/calendar/kurt-caldwell-martin-city-brewing-co-6/
LOCATION:Martin City Brewing Company\, 500 E. 135th Street\, Kansas City\, MO\, United States
END:VEVENT
BEGIN:VEVENT
DTSTART;TZID=America/Chicago:20260524T190000
DTEND;TZID=America/Chicago:20260524T210000
DTSTAMP:20260420T010406
CREATED:20260412T212417Z
LAST-MODIFIED:20260412T212417Z
UID:68340-1779649200-1779656400@martincitytelegraph.com
SUMMARY:Trivia Night @ Coach's Bar and Grill
DESCRIPTION:Trivia night is back at Coach’s Bar and Grill every Sunday at 7:00 PM! Best of all? It’s completely free to play with great prizes up for grabs. Round up your crew\, warm up those brain cells\, and get ready for a fun night of friendly competition!
URL:https://martincitytelegraph.com/calendar/trivia-night-coachs-bar-and-grill-7/
LOCATION:Coach’s Bar and Grill\, 9089 W 135th St\, Overland Park\, KS\, United States
END:VEVENT
BEGIN:VEVENT
DTSTART;TZID=America/Chicago:20260525T110000
DTEND;TZID=America/Chicago:20260525T210000
DTSTAMP:20260420T010406
CREATED:20260414T110912Z
LAST-MODIFIED:20260414T110912Z
UID:68792-1779706800-1779742800@martincitytelegraph.com
SUMMARY:Memorial Day @ Mexico Lindo KC
DESCRIPTION:Come celebrate the long weekend with us at Mexico Lindo KC! Great food\, great drinks\, great company.
URL:https://martincitytelegraph.com/calendar/memorial-day-mexico-lindo-kc/
LOCATION:Mexico Lindo KC\, 1046 W 103rd St\,\, Kansas City\, MO\, United States
END:VEVENT
BEGIN:VEVENT
DTSTART;TZID=America/Chicago:20260525T180000
DTEND;TZID=America/Chicago:20260525T210000
DTSTAMP:20260420T010406
CREATED:20260412T221008Z
LAST-MODIFIED:20260412T221008Z
UID:68606-1779732000-1779742800@martincitytelegraph.com
SUMMARY:Monday Night Music Bingo @ Waldo Pizza
DESCRIPTION:Join us for Monday Night Music Bingo at Waldo Pizza! Enjoy our all-night pizza and salad buffet for $15.99 while you compete against other players for the prize! Bingo Special: 14″ Specialty Pizza and a pitcher of local draft beer for $40.
URL:https://martincitytelegraph.com/calendar/monday-night-music-bingo-waldo-pizza-7/
LOCATION:Waldo Pizza\, 7433 Broadway St\,\, Kansas City\, MO\, United States
END:VEVENT
BEGIN:VEVENT
DTSTART;TZID=America/Chicago:20260526T093000
DTEND;TZID=America/Chicago:20260526T140000
DTSTAMP:20260420T010406
CREATED:20260412T132937Z
LAST-MODIFIED:20260412T132937Z
UID:68043-1779787800-1779804000@martincitytelegraph.com
SUMMARY:WonderBaby & Me @ Wonderscope
DESCRIPTION:WonderBaby & Me is offered each Tuesday at 9:30 am and 2:00 pm. Included with museum admission or membership.
URL:https://martincitytelegraph.com/calendar/wonderbaby-me-wonderscope-8/
LOCATION:The Regnier Family Wonderscope Children’s Museum of Kansas City\, 423 E. Red Bridge Shopping Center
END:VEVENT
BEGIN:VEVENT
DTSTART;TZID=America/Chicago:20260526T093000
DTEND;TZID=America/Chicago:20260526T150000
DTSTAMP:20260420T010406
CREATED:20260412T132936Z
LAST-MODIFIED:20260412T132936Z
UID:68042-1779787800-1779807600@martincitytelegraph.com
SUMMARY:Science Time @ Wonderscope
DESCRIPTION:Science Time sessions offered at 9:30 am\, 10:30 am\, 1:30 pm\, and 2:30 pm. Learn all about science with Mr. John! Free with museum admission or membership. Sign-ups start 30 minutes before class time.
URL:https://martincitytelegraph.com/calendar/science-time-wonderscope-8/
LOCATION:The Regnier Family Wonderscope Children’s Museum of Kansas City\, 423 E. Red Bridge Shopping Center
END:VEVENT
BEGIN:VEVENT
DTSTART;TZID=America/Chicago:20260526T120000
DTEND;TZID=America/Chicago:20260526T130000
DTSTAMP:20260420T010406
CREATED:20260412T022507Z
LAST-MODIFIED:20260412T022507Z
UID:67611-1779796800-1779800400@martincitytelegraph.com
SUMMARY:Plant Swap @ Grandview MCPL
DESCRIPTION:Join the Library in building our garden community by connecting with other gardeners and plant lovers! Meet at the Library to trade pest-free plants\, including houseplants\, potted plants\, cuttings\, succulents\, and more. Share the plant love and take home some new leafy pals. Please bring items in containers/packaging that you are willing to part with and label them with name and basic care instructions. Contact branch staff for more information.
URL:https://martincitytelegraph.com/calendar/plant-swap-grandview-mcpl/
LOCATION:Grandview Mid-Continent Public Library\, 12930 Booth Ln\, Grandview\, MO\, United States
END:VEVENT
BEGIN:VEVENT
DTSTART;TZID=America/Chicago:20260526T163000
DTEND;TZID=America/Chicago:20260526T173000
DTSTAMP:20260420T010406
CREATED:20260412T025649Z
LAST-MODIFIED:20260412T025649Z
UID:67662-1779813000-1779816600@martincitytelegraph.com
SUMMARY:Game of the Month Club @Belton Library
DESCRIPTION:Join us to learn and experience a new game from the library’s collection each month. Come to have fun with friends and enjoy a snack! Intended for ages 10-14. CCPL cannot guarantee that food served at this program does not contain tree nuts\, soy\, or other allergens. Accordingly\, the Library will not be liable for such harm to any individual resulting from such allergens. Attendees with allergies should exercise caution. Parents of minors with allergies shall monitor their children during this event.
URL:https://martincitytelegraph.com/calendar/game-of-the-month-club-belton-library-3/
LOCATION:Cass County Public Library Northern Resource Center\, 1741 E North Ave\, Belton\, MO\, United States
END:VEVENT
BEGIN:VEVENT
DTSTART;TZID=America/Chicago:20260526T190000
DTEND;TZID=America/Chicago:20260526T210000
DTSTAMP:20260420T010406
CREATED:20260412T031918Z
LAST-MODIFIED:20260412T121435Z
UID:67773-1779822000-1779829200@martincitytelegraph.com
SUMMARY:Nick Schnebelen @ BB's Lawnside BBQ
DESCRIPTION:Albert King award winning guitar player who can bend strings like no other! $7 Cover.
URL:https://martincitytelegraph.com/calendar/nick-schnebelen-bbs-lawnside-bbq-4/
LOCATION:BB’s Lawnside\, 1205 E. 85th Street
ATTACH;FMTTYPE=image/jpeg:https://martincitytelegraph.com/wp-content/uploads/2026/04/NICK-SCHNEBELEN-2.jpg
END:VEVENT
BEGIN:VEVENT
DTSTART;TZID=America/Chicago:20260526T190000
DTEND;TZID=America/Chicago:20260526T210000
DTSTAMP:20260420T010406
CREATED:20260412T212418Z
LAST-MODIFIED:20260412T212418Z
UID:68341-1779822000-1779829200@martincitytelegraph.com
SUMMARY:Trivia Night @ Johnny's Tavern Raymore
DESCRIPTION:It’s Taco Tuesday meets Trivia Tuesday at Johnny’s Tavern Raymore! Join us every Tuesday at 7:00 PM for delicious tacos and a trivia challenge that will put your knowledge to the test. Bring your friends\, your appetite\, and your sharpest trivia skills for a night you won’t want to miss!
URL:https://martincitytelegraph.com/calendar/trivia-night-johnnys-tavern-raymore-7/
LOCATION:Johnny’s Tavern Raymore\, 716 W Foxwood Dr\,\, Raymore\, MO\, United States
END:VEVENT
BEGIN:VEVENT
DTSTART;TZID=America/Chicago:20260527T093000
DTEND;TZID=America/Chicago:20260527T150000
DTSTAMP:20260420T010406
CREATED:20260412T132937Z
LAST-MODIFIED:20260412T132937Z
UID:68044-1779874200-1779894000@martincitytelegraph.com
SUMMARY:Music & Movement @ Wonderscope
DESCRIPTION:Music & Movement sessions offered at 9:30 am\, 10:30 am\, 1:30 pm\, and 2:30 pm. Free with museum admission or membership. Sign-ups start 30 minutes before class time.
URL:https://martincitytelegraph.com/calendar/music-movement-wonderscope-9/
LOCATION:The Regnier Family Wonderscope Children’s Museum of Kansas City\, 423 E. Red Bridge Shopping Center
END:VEVENT
BEGIN:VEVENT
DTSTART;TZID=America/Chicago:20260527T100000
DTEND;TZID=America/Chicago:20260527T120000
DTSTAMP:20260420T010406
CREATED:20260412T132951Z
LAST-MODIFIED:20260412T132951Z
UID:68047-1779876000-1779883200@martincitytelegraph.com
SUMMARY:Sensational Play @ Wonderscope
DESCRIPTION:Sensory-rich activities led by University of Kansas Occupational Therapy students. Included with museum admission or membership. Wednesdays 10 am – noon.
URL:https://martincitytelegraph.com/calendar/sensational-play-wonderscope-9/
LOCATION:The Regnier Family Wonderscope Children’s Museum of Kansas City\, 423 E. Red Bridge Shopping Center
END:VEVENT
BEGIN:VEVENT
DTSTART;TZID=America/Chicago:20260527T103000
DTEND;TZID=America/Chicago:20260527T123000
DTSTAMP:20260420T010406
CREATED:20260412T022507Z
LAST-MODIFIED:20260412T022507Z
UID:67612-1779877800-1779885000@martincitytelegraph.com
SUMMARY:Summer Reading Challenge Kick-Off @ Grandview MCPL
DESCRIPTION:Join the Library for a roaring good time as we kick off the 2026 Summer Reading Challenge! This open-house event is full of activities\, games\, and crafts that the whole family will enjoy. Please register participating children only.
URL:https://martincitytelegraph.com/calendar/summer-reading-challenge-kick-off-grandview-mcpl/
LOCATION:Grandview Mid-Continent Public Library\, 12930 Booth Ln\, Grandview\, MO\, United States
END:VEVENT
BEGIN:VEVENT
DTSTART;TZID=America/Chicago:20260527T123000
DTEND;TZID=America/Chicago:20260527T143000
DTSTAMP:20260420T010406
CREATED:20260412T025650Z
LAST-MODIFIED:20260412T025650Z
UID:67663-1779885000-1779892200@martincitytelegraph.com
SUMMARY:Watercolors by Marcia @Belton Library
DESCRIPTION:Marcia Miller will present a class on the basics of watercolor painting. Marcia is a life long art teacher and currently teaches lessons at the Belton Art Gallery. You will receive step-by-step instruction on watercolor techniques and go home with your own beautiful painting. Registration required. Intended for ages 18 and up.
URL:https://martincitytelegraph.com/calendar/watercolors-by-marcia-belton-library-3/
LOCATION:Cass County Public Library Northern Resource Center\, 1741 E North Ave\, Belton\, MO\, United States
END:VEVENT
BEGIN:VEVENT
DTSTART;TZID=America/Chicago:20260527T183000
DTEND;TZID=America/Chicago:20260527T203000
DTSTAMP:20260420T010406
CREATED:20260412T214221Z
LAST-MODIFIED:20260412T214221Z
UID:68457-1779906600-1779913800@martincitytelegraph.com
SUMMARY:Music Bingo @ KC Bier Co
DESCRIPTION:Join us for free Music Bingo every Wednesday from 6:30-8:30 PM! Two rounds per night with a prize in each round. You must have a device that can connect to the internet to play.
URL:https://martincitytelegraph.com/calendar/music-bingo-kc-bier-co-9/
LOCATION:KC Bier Co\, 310 W. 79th Street
END:VEVENT
BEGIN:VEVENT
DTSTART;TZID=America/Chicago:20260527T190000
DTEND;TZID=America/Chicago:20260527T210000
DTSTAMP:20260420T010406
CREATED:20260412T031918Z
LAST-MODIFIED:20260412T121338Z
UID:67774-1779908400-1779915600@martincitytelegraph.com
SUMMARY:Howard Mahan & Friends @ BB's Lawnside BBQ
DESCRIPTION:Fiery\, passionate guitar and vocals with a touch of Rock n Roll! $5 Cover.
URL:https://martincitytelegraph.com/calendar/howard-mahan-friends-bbs-lawnside-bbq-4/
LOCATION:BB’s Lawnside\, 1205 E. 85th Street
ATTACH;FMTTYPE=image/jpeg:https://martincitytelegraph.com/wp-content/uploads/2026/04/HOWARD-MAHAN-FRIENDS.jpg
END:VEVENT
BEGIN:VEVENT
DTSTART;TZID=America/Chicago:20260528T093000
DTEND;TZID=America/Chicago:20260528T150000
DTSTAMP:20260420T010406
CREATED:20260412T132951Z
LAST-MODIFIED:20260412T132951Z
UID:68048-1779960600-1779980400@martincitytelegraph.com
SUMMARY:Art Time @ Wonderscope
DESCRIPTION:Art Time sessions offered at 9:30 am\, 10:30 am\, 1:30 pm\, and 2:30 pm. Free with museum admission or membership. Sign-ups start 30 minutes before class time.
URL:https://martincitytelegraph.com/calendar/art-time-wonderscope-9/
LOCATION:The Regnier Family Wonderscope Children’s Museum of Kansas City\, 423 E. Red Bridge Shopping Center
END:VEVENT
BEGIN:VEVENT
DTSTART;TZID=America/Chicago:20260528T183000
DTEND;TZID=America/Chicago:20260528T203000
DTSTAMP:20260420T010406
CREATED:20260412T214221Z
LAST-MODIFIED:20260412T214221Z
UID:68458-1779993000-1780000200@martincitytelegraph.com
SUMMARY:Magic with Jack Reid @ KC Bier Co
DESCRIPTION:Award-winning magician Jack Reid performs in the Bierhalle every Thursday! Jack will astonish you with a family-friendly personal tableside magic show. No tickets needed\, just a mind ready to be blown!
URL:https://martincitytelegraph.com/calendar/magic-with-jack-reid-kc-bier-co-7/
LOCATION:KC Bier Co\, 310 W. 79th Street
END:VEVENT
END:VCALENDAR