BEGIN:VCALENDAR
VERSION:2.0
PRODID:-//Martin City Telegraph - ECPv6.15.17.1//NONSGML v1.0//EN
CALSCALE:GREGORIAN
METHOD:PUBLISH
X-ORIGINAL-URL:https://martincitytelegraph.com
X-WR-CALDESC:Events for Martin City Telegraph
REFRESH-INTERVAL;VALUE=DURATION:PT1H
X-Robots-Tag:noindex
X-PUBLISHED-TTL:PT1H
BEGIN:VTIMEZONE
TZID:America/Chicago
BEGIN:DAYLIGHT
TZOFFSETFROM:-0600
TZOFFSETTO:-0500
TZNAME:CDT
DTSTART:20250309T080000
END:DAYLIGHT
BEGIN:STANDARD
TZOFFSETFROM:-0500
TZOFFSETTO:-0600
TZNAME:CST
DTSTART:20251102T070000
END:STANDARD
BEGIN:DAYLIGHT
TZOFFSETFROM:-0600
TZOFFSETTO:-0500
TZNAME:CDT
DTSTART:20260308T080000
END:DAYLIGHT
BEGIN:STANDARD
TZOFFSETFROM:-0500
TZOFFSETTO:-0600
TZNAME:CST
DTSTART:20261101T070000
END:STANDARD
BEGIN:DAYLIGHT
TZOFFSETFROM:-0600
TZOFFSETTO:-0500
TZNAME:CDT
DTSTART:20270314T080000
END:DAYLIGHT
BEGIN:STANDARD
TZOFFSETFROM:-0500
TZOFFSETTO:-0600
TZNAME:CST
DTSTART:20271107T070000
END:STANDARD
END:VTIMEZONE
BEGIN:VEVENT
DTSTART;TZID=America/Chicago:20260526T190000
DTEND;TZID=America/Chicago:20260526T210000
DTSTAMP:20260420T061442
CREATED:20260412T031918Z
LAST-MODIFIED:20260412T121435Z
UID:67773-1779822000-1779829200@martincitytelegraph.com
SUMMARY:Nick Schnebelen @ BB's Lawnside BBQ
DESCRIPTION:Albert King award winning guitar player who can bend strings like no other! $7 Cover.
URL:https://martincitytelegraph.com/calendar/nick-schnebelen-bbs-lawnside-bbq-4/
LOCATION:BB’s Lawnside\, 1205 E. 85th Street
ATTACH;FMTTYPE=image/jpeg:https://martincitytelegraph.com/wp-content/uploads/2026/04/NICK-SCHNEBELEN-2.jpg
END:VEVENT
BEGIN:VEVENT
DTSTART;TZID=America/Chicago:20260526T190000
DTEND;TZID=America/Chicago:20260526T210000
DTSTAMP:20260420T061442
CREATED:20260412T212418Z
LAST-MODIFIED:20260412T212418Z
UID:68341-1779822000-1779829200@martincitytelegraph.com
SUMMARY:Trivia Night @ Johnny's Tavern Raymore
DESCRIPTION:It’s Taco Tuesday meets Trivia Tuesday at Johnny’s Tavern Raymore! Join us every Tuesday at 7:00 PM for delicious tacos and a trivia challenge that will put your knowledge to the test. Bring your friends\, your appetite\, and your sharpest trivia skills for a night you won’t want to miss!
URL:https://martincitytelegraph.com/calendar/trivia-night-johnnys-tavern-raymore-7/
LOCATION:Johnny’s Tavern Raymore\, 716 W Foxwood Dr\,\, Raymore\, MO\, United States
END:VEVENT
BEGIN:VEVENT
DTSTART;TZID=America/Chicago:20260527T093000
DTEND;TZID=America/Chicago:20260527T150000
DTSTAMP:20260420T061442
CREATED:20260412T132937Z
LAST-MODIFIED:20260412T132937Z
UID:68044-1779874200-1779894000@martincitytelegraph.com
SUMMARY:Music & Movement @ Wonderscope
DESCRIPTION:Music & Movement sessions offered at 9:30 am\, 10:30 am\, 1:30 pm\, and 2:30 pm. Free with museum admission or membership. Sign-ups start 30 minutes before class time.
URL:https://martincitytelegraph.com/calendar/music-movement-wonderscope-9/
LOCATION:The Regnier Family Wonderscope Children’s Museum of Kansas City\, 423 E. Red Bridge Shopping Center
END:VEVENT
BEGIN:VEVENT
DTSTART;TZID=America/Chicago:20260527T100000
DTEND;TZID=America/Chicago:20260527T120000
DTSTAMP:20260420T061442
CREATED:20260412T132951Z
LAST-MODIFIED:20260412T132951Z
UID:68047-1779876000-1779883200@martincitytelegraph.com
SUMMARY:Sensational Play @ Wonderscope
DESCRIPTION:Sensory-rich activities led by University of Kansas Occupational Therapy students. Included with museum admission or membership. Wednesdays 10 am – noon.
URL:https://martincitytelegraph.com/calendar/sensational-play-wonderscope-9/
LOCATION:The Regnier Family Wonderscope Children’s Museum of Kansas City\, 423 E. Red Bridge Shopping Center
END:VEVENT
BEGIN:VEVENT
DTSTART;TZID=America/Chicago:20260527T103000
DTEND;TZID=America/Chicago:20260527T123000
DTSTAMP:20260420T061442
CREATED:20260412T022507Z
LAST-MODIFIED:20260412T022507Z
UID:67612-1779877800-1779885000@martincitytelegraph.com
SUMMARY:Summer Reading Challenge Kick-Off @ Grandview MCPL
DESCRIPTION:Join the Library for a roaring good time as we kick off the 2026 Summer Reading Challenge! This open-house event is full of activities\, games\, and crafts that the whole family will enjoy. Please register participating children only.
URL:https://martincitytelegraph.com/calendar/summer-reading-challenge-kick-off-grandview-mcpl/
LOCATION:Grandview Mid-Continent Public Library\, 12930 Booth Ln\, Grandview\, MO\, United States
END:VEVENT
BEGIN:VEVENT
DTSTART;TZID=America/Chicago:20260527T123000
DTEND;TZID=America/Chicago:20260527T143000
DTSTAMP:20260420T061442
CREATED:20260412T025650Z
LAST-MODIFIED:20260412T025650Z
UID:67663-1779885000-1779892200@martincitytelegraph.com
SUMMARY:Watercolors by Marcia @Belton Library
DESCRIPTION:Marcia Miller will present a class on the basics of watercolor painting. Marcia is a life long art teacher and currently teaches lessons at the Belton Art Gallery. You will receive step-by-step instruction on watercolor techniques and go home with your own beautiful painting. Registration required. Intended for ages 18 and up.
URL:https://martincitytelegraph.com/calendar/watercolors-by-marcia-belton-library-3/
LOCATION:Cass County Public Library Northern Resource Center\, 1741 E North Ave\, Belton\, MO\, United States
END:VEVENT
BEGIN:VEVENT
DTSTART;TZID=America/Chicago:20260527T183000
DTEND;TZID=America/Chicago:20260527T203000
DTSTAMP:20260420T061442
CREATED:20260412T214221Z
LAST-MODIFIED:20260412T214221Z
UID:68457-1779906600-1779913800@martincitytelegraph.com
SUMMARY:Music Bingo @ KC Bier Co
DESCRIPTION:Join us for free Music Bingo every Wednesday from 6:30-8:30 PM! Two rounds per night with a prize in each round. You must have a device that can connect to the internet to play.
URL:https://martincitytelegraph.com/calendar/music-bingo-kc-bier-co-9/
LOCATION:KC Bier Co\, 310 W. 79th Street
END:VEVENT
BEGIN:VEVENT
DTSTART;TZID=America/Chicago:20260527T190000
DTEND;TZID=America/Chicago:20260527T210000
DTSTAMP:20260420T061442
CREATED:20260412T031918Z
LAST-MODIFIED:20260412T121338Z
UID:67774-1779908400-1779915600@martincitytelegraph.com
SUMMARY:Howard Mahan & Friends @ BB's Lawnside BBQ
DESCRIPTION:Fiery\, passionate guitar and vocals with a touch of Rock n Roll! $5 Cover.
URL:https://martincitytelegraph.com/calendar/howard-mahan-friends-bbs-lawnside-bbq-4/
LOCATION:BB’s Lawnside\, 1205 E. 85th Street
ATTACH;FMTTYPE=image/jpeg:https://martincitytelegraph.com/wp-content/uploads/2026/04/HOWARD-MAHAN-FRIENDS.jpg
END:VEVENT
BEGIN:VEVENT
DTSTART;TZID=America/Chicago:20260528T093000
DTEND;TZID=America/Chicago:20260528T150000
DTSTAMP:20260420T061442
CREATED:20260412T132951Z
LAST-MODIFIED:20260412T132951Z
UID:68048-1779960600-1779980400@martincitytelegraph.com
SUMMARY:Art Time @ Wonderscope
DESCRIPTION:Art Time sessions offered at 9:30 am\, 10:30 am\, 1:30 pm\, and 2:30 pm. Free with museum admission or membership. Sign-ups start 30 minutes before class time.
URL:https://martincitytelegraph.com/calendar/art-time-wonderscope-9/
LOCATION:The Regnier Family Wonderscope Children’s Museum of Kansas City\, 423 E. Red Bridge Shopping Center
END:VEVENT
BEGIN:VEVENT
DTSTART;TZID=America/Chicago:20260528T183000
DTEND;TZID=America/Chicago:20260528T203000
DTSTAMP:20260420T061442
CREATED:20260412T214221Z
LAST-MODIFIED:20260412T214221Z
UID:68458-1779993000-1780000200@martincitytelegraph.com
SUMMARY:Magic with Jack Reid @ KC Bier Co
DESCRIPTION:Award-winning magician Jack Reid performs in the Bierhalle every Thursday! Jack will astonish you with a family-friendly personal tableside magic show. No tickets needed\, just a mind ready to be blown!
URL:https://martincitytelegraph.com/calendar/magic-with-jack-reid-kc-bier-co-7/
LOCATION:KC Bier Co\, 310 W. 79th Street
END:VEVENT
BEGIN:VEVENT
DTSTART;TZID=America/Chicago:20260528T190000
DTEND;TZID=America/Chicago:20260528T210000
DTSTAMP:20260420T061442
CREATED:20260415T213653Z
LAST-MODIFIED:20260415T213653Z
UID:68877-1779994800-1780002000@martincitytelegraph.com
SUMMARY:Thursday Bingo Night @ Transparent Brewing Company
DESCRIPTION:Thursday nights just got a whole lot better! Join us every week for Bingo Night hosted by brewery owner Nolan Brown. It’s Nacho Average Thursday\, so come hungry and take advantage of discounted Loaded Nachos\, grab a dauber\, and get ready for a night of games\, pints\, and local flavor. Happy Hour runs 3:00-6:00 PM with $1 off all full pours. Bingo starts at 7:00 PM. No buy-in required — just show up\, grab a beer\, and play to win! Located at Transparent Brewing Co.\, 14501 White Ave.\, Grandview\, MO 64030.
URL:https://martincitytelegraph.com/calendar/thursday-bingo-night-transparent-brewing-company-7/
LOCATION:Transparent Brewing Company\, 14501 White ave\, Grandview\, MO\, United States
END:VEVENT
BEGIN:VEVENT
DTSTART;TZID=America/Chicago:20260528T190000
DTEND;TZID=America/Chicago:20260528T220000
DTSTAMP:20260420T061442
CREATED:20260412T220137Z
LAST-MODIFIED:20260412T220137Z
UID:68569-1779994800-1780005600@martincitytelegraph.com
SUMMARY:Gary Lincoln @ Martin City Brewing Co.
DESCRIPTION:Live music at Martin City Brewing Company! Come enjoy great craft beer\, delicious pizza\, and a fantastic night of live music.
URL:https://martincitytelegraph.com/calendar/gary-lincoln-martin-city-brewing-co-6/
LOCATION:Martin City Brewing Company\, 500 E. 135th Street\, Kansas City\, MO\, United States
END:VEVENT
BEGIN:VEVENT
DTSTART;TZID=America/Chicago:20260528T200000
DTEND;TZID=America/Chicago:20260528T220000
DTSTAMP:20260420T061442
CREATED:20260412T203917Z
LAST-MODIFIED:20260412T203917Z
UID:68246-1779998400-1780005600@martincitytelegraph.com
SUMMARY:CLAYPOOL GOLD Featuring Primus\, Les Claypool's Frog Brigade & The Claypool Lennon Delirium @ Starlight Theatre
DESCRIPTION:Claypool Gold featuring Primus\, Claypool Lennon Delirium and The Frog Brigade at Starlight Theatre. Located at 4600 Starlight Rd.\, Kansas City\, MO.
URL:https://martincitytelegraph.com/calendar/claypool-gold-featuring-primus-les-claypools-frog-brigade-the-claypool-lennon-delirium-starlight-theatre/
LOCATION:Starlight Theatre\, 4600 Starlight Rd.\, Kansas City\, MO\, United States
END:VEVENT
BEGIN:VEVENT
DTSTART;TZID=America/Chicago:20260528T203000
DTEND;TZID=America/Chicago:20260528T210000
DTSTAMP:20260420T061442
CREATED:20260412T115837Z
LAST-MODIFIED:20260412T130658Z
UID:67846-1780000200-1780002000@martincitytelegraph.com
SUMMARY:Open Mic @ The Comedy Club of KC
DESCRIPTION:Sign up between 8:30pm and 9:00pm. 3 minute sets. Bucket draw.
URL:https://martincitytelegraph.com/calendar/open-mic-the-comedy-club-of-kc-7/
LOCATION:The Comedy Club of KC\, 1130 W 103 St\, Kansas City\, MO\, 64114
ATTACH;FMTTYPE=image/png:https://martincitytelegraph.com/wp-content/uploads/2026/04/openmic.png
END:VEVENT
BEGIN:VEVENT
DTSTART;VALUE=DATE:20260529
DTEND;VALUE=DATE:20260531
DTSTAMP:20260420T061442
CREATED:20260411T135323Z
LAST-MODIFIED:20260411T135323Z
UID:67529-1780012800-1780185599@martincitytelegraph.com
SUMMARY:3rd Annual Carry Nation Days @Main Street Belton
DESCRIPTION:Belton Main Street is gearing up for its 3rd Annual Carry Nation Days\, and this year’s celebration is bigger than ever! Taking place Friday\, May 29 through Saturday\, May 30\, the two-day festival brings together over 80 vendors\, live music\, food trucks\, games\, and a spectacular drone show. This year’s event also holds extra special significance as the nation comes together to celebrate America’s 250th anniversary — making it the perfect moment to gather with the community for a truly memorable weekend. This is one event no one will want to miss!
URL:https://martincitytelegraph.com/calendar/3rd-annual-carry-nation-days-main-street-belton/
LOCATION:Belton Main Street\, 517 Main St.\, Belton\, MO\, 64012
ATTACH;FMTTYPE=image/jpeg:https://martincitytelegraph.com/wp-content/uploads/2026/04/CarryNationDays.jpg
END:VEVENT
BEGIN:VEVENT
DTSTART;TZID=America/Chicago:20260529T080000
DTEND;TZID=America/Chicago:20260529T180000
DTSTAMP:20260420T061442
CREATED:20260412T132952Z
LAST-MODIFIED:20260417T200317Z
UID:68049-1780041600-1780077600@martincitytelegraph.com
SUMMARY:Kid Fit @ Wonderscope
DESCRIPTION:Kid Fit sessions offered at 9:30 am\, 10:30 am\, 1:30 pm\, and 2:30 pm. Free with museum admission or membership. Sign-ups start 30 minutes before class time.
URL:https://martincitytelegraph.com/calendar/kid-fit-wonderscope-9/
LOCATION:The Regnier Family Wonderscope Children’s Museum of Kansas City\, 423 E. Red Bridge Shopping Center
ATTACH;FMTTYPE=image/jpeg:https://martincitytelegraph.com/wp-content/uploads/2026/04/wonderscope.jpg
END:VEVENT
BEGIN:VEVENT
DTSTART;TZID=America/Chicago:20260529T110000
DTEND;TZID=America/Chicago:20260529T170000
DTSTAMP:20260420T061442
CREATED:20260412T025650Z
LAST-MODIFIED:20260412T025650Z
UID:67664-1780052400-1780074000@martincitytelegraph.com
SUMMARY:Red Cross Blood Drive @Belton Library
DESCRIPTION:Donate blood and save lives! Did you know that a single donation can save up to three lives? Donating blood can even improve your overall health. Experience the fulfillment of helping others in need! Intended for ages 18
URL:https://martincitytelegraph.com/calendar/red-cross-blood-drive-belton-library-2/
LOCATION:Cass County Public Library Northern Resource Center\, 1741 E North Ave\, Belton\, MO\, United States
END:VEVENT
BEGIN:VEVENT
DTSTART;TZID=America/Chicago:20260529T150000
DTEND;TZID=America/Chicago:20260529T160000
DTSTAMP:20260420T061442
CREATED:20260412T132952Z
LAST-MODIFIED:20260412T132952Z
UID:68050-1780066800-1780070400@martincitytelegraph.com
SUMMARY:Maker Space Workshop @ Wonderscope
DESCRIPTION:Hands-on\, monthly workshop led by Wonderscope program specialists. Located in the Design Lab\, these workshops give children the chance to experiment with a variety of resources and tools\, opening up new avenues for creative expression. A new project each month! Free with museum admission or membership.
URL:https://martincitytelegraph.com/calendar/maker-space-workshop-wonderscope-2/
LOCATION:The Regnier Family Wonderscope Children’s Museum of Kansas City\, 423 E. Red Bridge Shopping Center
END:VEVENT
BEGIN:VEVENT
DTSTART;TZID=America/Chicago:20260529T190000
DTEND;TZID=America/Chicago:20260529T213000
DTSTAMP:20260420T061442
CREATED:20260412T115837Z
LAST-MODIFIED:20260412T130625Z
UID:67847-1780081200-1780090200@martincitytelegraph.com
SUMMARY:Ed Bassmaster @ The Comedy Club of KC
DESCRIPTION:Ed Bassmaster is a comedian\, content creator\, and prankster best known for his wildly popular YouTube channel with over 2.5 million subscribers and hundreds of millions of views. His iconic personas include Skippy\, Teste\, Mumbles\, Bushman\, and the ‘Would You Look at That’ guy. Seating options: Front Row Table for 2 covers admission for 2 people. Preferred Seats are as close to the stage as possible\, held until 5 minutes prior to show. General Admission generally starts in the back half of the showroom. Party Table for 10 is a designated table in the front of the GA section covering admission for up to 10 people (food/drink not included).
URL:https://martincitytelegraph.com/calendar/ed-bassmaster-the-comedy-club-of-kc/
LOCATION:The Comedy Club of KC\, 1130 W 103 St\, Kansas City\, MO\, 64114
ATTACH;FMTTYPE=image/png:https://martincitytelegraph.com/wp-content/uploads/2026/04/edbassmaster.png
END:VEVENT
BEGIN:VEVENT
DTSTART;TZID=America/Chicago:20260529T190000
DTEND;TZID=America/Chicago:20260529T220000
DTSTAMP:20260420T061442
CREATED:20260412T220137Z
LAST-MODIFIED:20260412T220137Z
UID:68570-1780081200-1780092000@martincitytelegraph.com
SUMMARY:Bear Gardner @ Martin City Brewing Co.
DESCRIPTION:Live music at Martin City Brewing Company! Come enjoy great craft beer\, delicious pizza\, and a fantastic night of live music.
URL:https://martincitytelegraph.com/calendar/bear-gardner-martin-city-brewing-co-2/
LOCATION:Martin City Brewing Company\, 500 E. 135th Street\, Kansas City\, MO\, United States
END:VEVENT
BEGIN:VEVENT
DTSTART;TZID=America/Chicago:20260529T193000
DTEND;TZID=America/Chicago:20260529T210000
DTSTAMP:20260420T061442
CREATED:20260411T215051Z
LAST-MODIFIED:20260411T215603Z
UID:67584-1780083000-1780088400@martincitytelegraph.com
SUMMARY:FREE Movie: Lily & Stitch @Grandview Amp
DESCRIPTION:Under the stars and free of charge\, the magic of Hawaii is coming to the big screen. \nThe entire community is invited to gather for a FREE outdoor screening of Disney’s newest live-action film\, Lilo & Stitch. \nGuests are encouraged to bring their own blanket chairs and come ready to kick back for a night of adventure and fun. Concessions will be available on-site\, though outside food and beverages are not permitted.
URL:https://martincitytelegraph.com/calendar/movie-at-the-amp-grandview-amp/
LOCATION:Grandview Ampitheater\, 13501 Byars Rd\, Grandview
ATTACH;FMTTYPE=image/png:https://martincitytelegraph.com/wp-content/uploads/2026/04/GRANDVIEWLILOSTITCH.png
END:VEVENT
BEGIN:VEVENT
DTSTART;TZID=America/Chicago:20260529T200000
DTEND;TZID=America/Chicago:20260529T230000
DTSTAMP:20260420T061442
CREATED:20260412T213051Z
LAST-MODIFIED:20260412T213051Z
UID:68408-1780084800-1780095600@martincitytelegraph.com
SUMMARY:Karaoke Night @ Tanner's
DESCRIPTION:Join us every Friday at 8 PM for Karaoke Night at Tanner’s! Whether you’re a rockstar\, a shower singer\, or just here for the laughs\, the stage is yours. Come out and show KC what you’ve got!
URL:https://martincitytelegraph.com/calendar/karaoke-night-tanners-7/
LOCATION:Tanner’s\, 11134 Holmes Rd\, Kansas City\, MO\, 64131
END:VEVENT
BEGIN:VEVENT
DTSTART;TZID=America/Chicago:20260530T110000
DTEND;TZID=America/Chicago:20260530T120000
DTSTAMP:20260420T061442
CREATED:20260412T133215Z
LAST-MODIFIED:20260412T133215Z
UID:68095-1780138800-1780142400@martincitytelegraph.com
SUMMARY:Train Ride @ Belton Railroad
DESCRIPTION:Take a step back in time to the Golden Age of Travel and ride a train like your grandparents\, or even your grandparent’s grandparents\, may have traveled on! From our 1920s era passenger coach\, our open-air excursion car\, to our 1950s Diesel locomotive\, riding with us through Old Towne Belton\, MO is a blast from the past! Ticket Prices: Ages 3 & under FREE | Ages 4-10: $10 | Ages 11+: $17. Looking for something extra special? Ride in the Caboose for $50 or ride in the Engine for $75 (tickets limited for each departure).
URL:https://martincitytelegraph.com/calendar/train-ride-belton-railroad-13/
LOCATION:Belton Railroad\, 502 E. Walnut
END:VEVENT
BEGIN:VEVENT
DTSTART;TZID=America/Chicago:20260530T140000
DTEND;TZID=America/Chicago:20260530T150000
DTSTAMP:20260420T061442
CREATED:20260412T133215Z
LAST-MODIFIED:20260412T133215Z
UID:68096-1780149600-1780153200@martincitytelegraph.com
SUMMARY:Train Ride @ Belton Railroad
DESCRIPTION:Take a step back in time to the Golden Age of Travel and ride a train like your grandparents\, or even your grandparent’s grandparents\, may have traveled on! From our 1920s era passenger coach\, our open-air excursion car\, to our 1950s Diesel locomotive\, riding with us through Old Towne Belton\, MO is a blast from the past! Ticket Prices: Ages 3 & under FREE | Ages 4-10: $10 | Ages 11+: $17. Looking for something extra special? Ride in the Caboose for $50 or ride in the Engine for $75 (tickets limited for each departure).
URL:https://martincitytelegraph.com/calendar/train-ride-belton-railroad-14/
LOCATION:Belton Railroad\, 502 E. Walnut
END:VEVENT
BEGIN:VEVENT
DTSTART;TZID=America/Chicago:20260530T140000
DTEND;TZID=America/Chicago:20260530T170000
DTSTAMP:20260420T061442
CREATED:20260412T031918Z
LAST-MODIFIED:20260412T121229Z
UID:67775-1780149600-1780160400@martincitytelegraph.com
SUMMARY:Mama Ray's Legacy Jam Featuring Lori Tucker @ BB's Lawnside BBQ
DESCRIPTION:Come jam with the crew every Saturday! Sign up with Lori and she will get you up on stage. No better jam in town! No Cover.
URL:https://martincitytelegraph.com/calendar/mama-rays-legacy-jam-featuring-lori-tucker-bbs-lawnside-bbq-9/
LOCATION:BB’s Lawnside\, 1205 E. 85th Street
ATTACH;FMTTYPE=image/jpeg:https://martincitytelegraph.com/wp-content/uploads/2026/04/lori-and-jay.jpg
END:VEVENT
BEGIN:VEVENT
DTSTART;TZID=America/Chicago:20260530T150000
DTEND;TZID=America/Chicago:20260530T170000
DTSTAMP:20260420T061442
CREATED:20260412T214240Z
LAST-MODIFIED:20260412T214240Z
UID:68459-1780153200-1780160400@martincitytelegraph.com
SUMMARY:Live Polka with Bram Wijnands @ KC Bier Co
DESCRIPTION:Enjoy fresh\, authentic German-style bier and a spread of Bavarian pretzels\, sausages\, and other favorites every Saturday in the Biergarten\, featuring live polka and German drinking songs with Bram Wijnands (and sometimes a special guest or two)! Live polka is rain or shine – the music will move indoors to the Bierhalle if needed. Free admission!
URL:https://martincitytelegraph.com/calendar/live-polka-with-bram-wijnands-kc-bier-co-7/
LOCATION:KC Bier Co\, 310 W. 79th Street
END:VEVENT
BEGIN:VEVENT
DTSTART;TZID=America/Chicago:20260530T190000
DTEND;TZID=America/Chicago:20260530T190000
DTSTAMP:20260420T061442
CREATED:20260412T212749Z
LAST-MODIFIED:20260412T212749Z
UID:68382-1780167600-1780167600@martincitytelegraph.com
SUMMARY:Poker Night @ The Limit Pub & Grub
DESCRIPTION:Try your luck at our weekly Saturday night Poker! Only a $5 buy-in. New to poker? No problem — contact us about our upcoming beginner class! Every Saturday night at The Limit Pub & Grub.
URL:https://martincitytelegraph.com/calendar/poker-night-the-limit-pub-grub-7/
END:VEVENT
BEGIN:VEVENT
DTSTART;TZID=America/Chicago:20260530T190000
DTEND;TZID=America/Chicago:20260530T213000
DTSTAMP:20260420T061442
CREATED:20260412T115837Z
LAST-MODIFIED:20260412T130554Z
UID:67848-1780167600-1780176600@martincitytelegraph.com
SUMMARY:Ed Bassmaster @ The Comedy Club of KC
DESCRIPTION:Ed Bassmaster is a comedian\, content creator\, and prankster best known for his wildly popular YouTube channel with over 2.5 million subscribers and hundreds of millions of views. His iconic personas include Skippy\, Teste\, Mumbles\, Bushman\, and the ‘Would You Look at That’ guy. Seating options: Front Row Table for 2 covers admission for 2 people. Preferred Seats are as close to the stage as possible\, held until 5 minutes prior to show. General Admission generally starts in the back half of the showroom. Party Table for 10 is a designated table in the front of the GA section covering admission for up to 10 people (food/drink not included).
URL:https://martincitytelegraph.com/calendar/ed-bassmaster-the-comedy-club-of-kc-2/
LOCATION:The Comedy Club of KC\, 1130 W 103 St\, Kansas City\, MO\, 64114
ATTACH;FMTTYPE=image/png:https://martincitytelegraph.com/wp-content/uploads/2026/04/edbassmaster.png
END:VEVENT
BEGIN:VEVENT
DTSTART;TZID=America/Chicago:20260530T190000
DTEND;TZID=America/Chicago:20260530T220000
DTSTAMP:20260420T061442
CREATED:20260412T220144Z
LAST-MODIFIED:20260412T220144Z
UID:68571-1780167600-1780178400@martincitytelegraph.com
SUMMARY:Hazy Fate @ Martin City Brewing Co.
DESCRIPTION:Live music at Martin City Brewing Company! Come enjoy great craft beer\, delicious pizza\, and a fantastic night of live music.
URL:https://martincitytelegraph.com/calendar/hazy-fate-martin-city-brewing-co-4/
LOCATION:Martin City Brewing Company\, 500 E. 135th Street\, Kansas City\, MO\, United States
END:VEVENT
BEGIN:VEVENT
DTSTART;TZID=America/Chicago:20260531T130000
DTEND;TZID=America/Chicago:20260531T150000
DTSTAMP:20260420T061442
CREATED:20260412T214240Z
LAST-MODIFIED:20260412T214240Z
UID:68460-1780232400-1780239600@martincitytelegraph.com
SUMMARY:Let's Get Trivial: Sunday Trivia @ KC Bier Co
DESCRIPTION:Join us for FREE general knowledge Trivia with Let’s Get Trivial every Sunday from 1:00-3:00 PM! Prizes for the top 3 teams. Seating is first-come\, first-serve.
URL:https://martincitytelegraph.com/calendar/lets-get-trivial-sunday-trivia-kc-bier-co-7/
LOCATION:KC Bier Co\, 310 W. 79th Street
END:VEVENT
END:VCALENDAR