BEGIN:VCALENDAR
VERSION:2.0
PRODID:-//Martin City Telegraph - ECPv6.15.17.1//NONSGML v1.0//EN
CALSCALE:GREGORIAN
METHOD:PUBLISH
X-WR-CALNAME:Martin City Telegraph
X-ORIGINAL-URL:https://martincitytelegraph.com
X-WR-CALDESC:Events for Martin City Telegraph
REFRESH-INTERVAL;VALUE=DURATION:PT1H
X-Robots-Tag:noindex
X-PUBLISHED-TTL:PT1H
BEGIN:VTIMEZONE
TZID:America/Chicago
BEGIN:DAYLIGHT
TZOFFSETFROM:-0600
TZOFFSETTO:-0500
TZNAME:CDT
DTSTART:20250309T080000
END:DAYLIGHT
BEGIN:STANDARD
TZOFFSETFROM:-0500
TZOFFSETTO:-0600
TZNAME:CST
DTSTART:20251102T070000
END:STANDARD
BEGIN:DAYLIGHT
TZOFFSETFROM:-0600
TZOFFSETTO:-0500
TZNAME:CDT
DTSTART:20260308T080000
END:DAYLIGHT
BEGIN:STANDARD
TZOFFSETFROM:-0500
TZOFFSETTO:-0600
TZNAME:CST
DTSTART:20261101T070000
END:STANDARD
BEGIN:DAYLIGHT
TZOFFSETFROM:-0600
TZOFFSETTO:-0500
TZNAME:CDT
DTSTART:20270314T080000
END:DAYLIGHT
BEGIN:STANDARD
TZOFFSETFROM:-0500
TZOFFSETTO:-0600
TZNAME:CST
DTSTART:20271107T070000
END:STANDARD
END:VTIMEZONE
BEGIN:VEVENT
DTSTART;TZID=America/Chicago:20260506T193000
DTEND;TZID=America/Chicago:20260506T223000
DTSTAMP:20260424T093613
CREATED:20260415T215634Z
LAST-MODIFIED:20260415T215634Z
UID:68925-1778095800-1778106600@martincitytelegraph.com
SUMMARY:Live Music: KC Rukus @ Iron Horse Bar & Grill
DESCRIPTION:KC Rukus is a classic rock band with a touch of MO-Town and outlaw country. Come catch them live at Iron Horse Leawood!
URL:https://martincitytelegraph.com/calendar/live-music-kc-rukus-iron-horse-bar-grill/
END:VEVENT
BEGIN:VEVENT
DTSTART;TZID=America/Chicago:20260507T093000
DTEND;TZID=America/Chicago:20260507T150000
DTSTAMP:20260424T093613
CREATED:20260412T132717Z
LAST-MODIFIED:20260412T132717Z
UID:68022-1778146200-1778166000@martincitytelegraph.com
SUMMARY:Art Time @ Wonderscope
DESCRIPTION:Art Time sessions offered at 9:30 am\, 10:30 am\, 1:30 pm\, and 2:30 pm. Free with museum admission or membership. Sign-ups start 30 minutes before class time.
URL:https://martincitytelegraph.com/calendar/art-time-wonderscope-6/
LOCATION:The Regnier Family Wonderscope Children’s Museum of Kansas City\, 423 E. Red Bridge Shopping Center
END:VEVENT
BEGIN:VEVENT
DTSTART;TZID=America/Chicago:20260507T180000
DTEND;TZID=America/Chicago:20260507T190000
DTSTAMP:20260424T093613
CREATED:20260412T025446Z
LAST-MODIFIED:20260412T025446Z
UID:67654-1778176800-1778180400@martincitytelegraph.com
SUMMARY:Writers Group @Belton Library
DESCRIPTION:Elevate your narrative at the library. Enjoy an evening with other writers. Receive feedback on your work and fellowship! Intended for ages 18 and up.
URL:https://martincitytelegraph.com/calendar/writers-group-belton-library-2/
LOCATION:Cass County Public Library Northern Resource Center\, 1741 E North Ave\, Belton\, MO\, United States
END:VEVENT
BEGIN:VEVENT
DTSTART;TZID=America/Chicago:20260507T180000
DTEND;TZID=America/Chicago:20260507T210000
DTSTAMP:20260424T093613
CREATED:20260412T220128Z
LAST-MODIFIED:20260412T220128Z
UID:68559-1778176800-1778187600@martincitytelegraph.com
SUMMARY:Kurt Caldwell @ Martin City Brewing Co.
DESCRIPTION:Live music at Martin City Brewing Company! Come enjoy great craft beer\, delicious pizza\, and a fantastic night of live music.
URL:https://martincitytelegraph.com/calendar/kurt-caldwell-martin-city-brewing-co-4/
LOCATION:Martin City Brewing Company\, 500 E. 135th Street\, Kansas City\, MO\, United States
END:VEVENT
BEGIN:VEVENT
DTSTART;TZID=America/Chicago:20260507T183000
DTEND;TZID=America/Chicago:20260507T203000
DTSTAMP:20260424T093613
CREATED:20260412T214156Z
LAST-MODIFIED:20260412T214156Z
UID:68444-1778178600-1778185800@martincitytelegraph.com
SUMMARY:Magic with Jack Reid @ KC Bier Co
DESCRIPTION:Award-winning magician Jack Reid performs in the Bierhalle every Thursday! Jack will astonish you with a family-friendly personal tableside magic show. No tickets needed\, just a mind ready to be blown!
URL:https://martincitytelegraph.com/calendar/magic-with-jack-reid-kc-bier-co-4/
LOCATION:KC Bier Co\, 310 W. 79th Street
END:VEVENT
BEGIN:VEVENT
DTSTART;TZID=America/Chicago:20260507T190000
DTEND;TZID=America/Chicago:20260507T210000
DTSTAMP:20260424T093613
CREATED:20260412T031829Z
LAST-MODIFIED:20260412T122940Z
UID:67755-1778180400-1778187600@martincitytelegraph.com
SUMMARY:Taylor Smith Trio @ BB's Lawnside BBQ
DESCRIPTION:Hot guitar and vocals with a twist of funk & Hendrix! $5 Cover.
URL:https://martincitytelegraph.com/calendar/taylor-smith-trio-bbs-lawnside-bbq-3/
LOCATION:BB’s Lawnside\, 1205 E. 85th Street
ATTACH;FMTTYPE=image/jpeg:https://martincitytelegraph.com/wp-content/uploads/2026/04/TAYLOR-SMITH.jpg
END:VEVENT
BEGIN:VEVENT
DTSTART;TZID=America/Chicago:20260507T190000
DTEND;TZID=America/Chicago:20260507T210000
DTSTAMP:20260424T093613
CREATED:20260412T115742Z
LAST-MODIFIED:20260412T131411Z
UID:67834-1778180400-1778187600@martincitytelegraph.com
SUMMARY:Tony Vinh @ The Comedy Club of KC
DESCRIPTION:Live stand-up comedy with Tony Vinh. Seating options: Front Row Table for 2 covers admission for 2 people. Preferred Seats are as close to the stage as possible\, held until 5 minutes prior to show. General Admission generally starts in the back half of the showroom. Party Table for 10 is a designated table in the front of the GA section covering admission for up to 10 people (food/drink not included).
URL:https://martincitytelegraph.com/calendar/tony-vinh-the-comedy-club-of-kc/
LOCATION:The Comedy Club of KC\, 1130 W 103 St\, Kansas City\, MO\, 64114
ATTACH;FMTTYPE=image/png:https://martincitytelegraph.com/wp-content/uploads/2026/04/tonyvinh.png
END:VEVENT
BEGIN:VEVENT
DTSTART;TZID=America/Chicago:20260507T190000
DTEND;TZID=America/Chicago:20260507T210000
DTSTAMP:20260424T093614
CREATED:20260412T161812Z
LAST-MODIFIED:20260412T161812Z
UID:68155-1778180400-1778187600@martincitytelegraph.com
SUMMARY:A Curious Savage @ Art House 808
DESCRIPTION:A Curious Savage is a charming and deeply human comedy by John Patrick that has delighted audiences since its debut. The story follows Mrs. Ethel Savage\, a wealthy\, warm-hearted widow with a plan to use her late husband’s fortune to help people pursue their dreams. Her scheming stepchildren have other ideas\, and have her committed to a gentle care home called The Cloisters. But rather than finding misery there\, Ethel discovers something unexpected: a community of wonderfully eccentric\, tender-hearted souls who remind her\, and us\, what truly matters in life. Funny\, moving\, and full of heart\, A Curious Savage is the perfect introduction to live theatre and the perfect debut for Art House Grandview. Under the direction of Alice Scott\, this production promises to be an evening you won’t soon forget. Tickets: $15. Purchase at https://www.zeffy.com/the-curious-savage-a-comedy-by-john-patrick
URL:https://martincitytelegraph.com/calendar/a-curious-savage-art-house-808-2/
LOCATION:Art House 808\, 808 Main\, Grandview
END:VEVENT
BEGIN:VEVENT
DTSTART;TZID=America/Chicago:20260507T190000
DTEND;TZID=America/Chicago:20260507T210000
DTSTAMP:20260424T093614
CREATED:20260415T213648Z
LAST-MODIFIED:20260415T213648Z
UID:68872-1778180400-1778187600@martincitytelegraph.com
SUMMARY:Thursday Bingo Night @ Transparent Brewing Company
DESCRIPTION:Thursday nights just got a whole lot better! Join us every week for Bingo Night hosted by brewery owner Nolan Brown. It’s Nacho Average Thursday\, so come hungry and take advantage of discounted Loaded Nachos\, grab a dauber\, and get ready for a night of games\, pints\, and local flavor. Happy Hour runs 3:00-6:00 PM with $1 off all full pours. Bingo starts at 7:00 PM. No buy-in required — just show up\, grab a beer\, and play to win! Located at Transparent Brewing Co.\, 14501 White Ave.\, Grandview\, MO 64030.
URL:https://martincitytelegraph.com/calendar/thursday-bingo-night-transparent-brewing-company-4/
LOCATION:Transparent Brewing Company\, 14501 White ave\, Grandview\, MO\, United States
END:VEVENT
BEGIN:VEVENT
DTSTART;TZID=America/Chicago:20260507T203000
DTEND;TZID=America/Chicago:20260507T210000
DTSTAMP:20260424T093614
CREATED:20260412T115742Z
LAST-MODIFIED:20260412T115742Z
UID:67835-1778185800-1778187600@martincitytelegraph.com
SUMMARY:Open Mic @ The Comedy Club of KC
DESCRIPTION:Sign up between 8:30pm and 9:00pm. 3 minute sets. Bucket draw.
URL:https://martincitytelegraph.com/calendar/open-mic-the-comedy-club-of-kc-4/
LOCATION:The Comedy Club of KC\, 1130 W 103 St\, Kansas City\, MO\, 64114
END:VEVENT
BEGIN:VEVENT
DTSTART;TZID=America/Chicago:20260508T080000
DTEND;TZID=America/Chicago:20260508T180000
DTSTAMP:20260424T093614
CREATED:20260412T132717Z
LAST-MODIFIED:20260412T132717Z
UID:68023-1778227200-1778263200@martincitytelegraph.com
SUMMARY:Kid Fit @ Wonderscope
DESCRIPTION:Kid Fit sessions offered at 9:30 am\, 10:30 am\, 1:30 pm\, and 2:30 pm. Free with museum admission or membership. Sign-ups start 30 minutes before class time.
URL:https://martincitytelegraph.com/calendar/kid-fit-wonderscope-6/
LOCATION:The Regnier Family Wonderscope Children’s Museum of Kansas City\, 423 E. Red Bridge Shopping Center
END:VEVENT
BEGIN:VEVENT
DTSTART;TZID=America/Chicago:20260508T190000
DTEND;TZID=America/Chicago:20260508T210000
DTSTAMP:20260424T093614
CREATED:20260412T031830Z
LAST-MODIFIED:20260412T122831Z
UID:67756-1778266800-1778274000@martincitytelegraph.com
SUMMARY:Levee Town @ BB's Lawnside BBQ
DESCRIPTION:Blistering rock & roll energy with searing soulful blues! These guys have been at it for over 20 years! $7 Cover.
URL:https://martincitytelegraph.com/calendar/levee-town-bbs-lawnside-bbq/
LOCATION:BB’s Lawnside\, 1205 E. 85th Street
ATTACH;FMTTYPE=image/jpeg:https://martincitytelegraph.com/wp-content/uploads/2026/04/leveetown.jpg
END:VEVENT
BEGIN:VEVENT
DTSTART;TZID=America/Chicago:20260508T190000
DTEND;TZID=America/Chicago:20260508T210000
DTSTAMP:20260424T093614
CREATED:20260412T161812Z
LAST-MODIFIED:20260412T161812Z
UID:68156-1778266800-1778274000@martincitytelegraph.com
SUMMARY:A Curious Savage @ Art House 808
DESCRIPTION:A Curious Savage is a charming and deeply human comedy by John Patrick that has delighted audiences since its debut. The story follows Mrs. Ethel Savage\, a wealthy\, warm-hearted widow with a plan to use her late husband’s fortune to help people pursue their dreams. Her scheming stepchildren have other ideas\, and have her committed to a gentle care home called The Cloisters. But rather than finding misery there\, Ethel discovers something unexpected: a community of wonderfully eccentric\, tender-hearted souls who remind her\, and us\, what truly matters in life. Funny\, moving\, and full of heart\, A Curious Savage is the perfect introduction to live theatre and the perfect debut for Art House Grandview. Under the direction of Alice Scott\, this production promises to be an evening you won’t soon forget. Tickets: $15. Purchase at https://www.zeffy.com/the-curious-savage-a-comedy-by-john-patrick
URL:https://martincitytelegraph.com/calendar/a-curious-savage-art-house-808-3/
LOCATION:Art House 808\, 808 Main\, Grandview
END:VEVENT
BEGIN:VEVENT
DTSTART;TZID=America/Chicago:20260508T190000
DTEND;TZID=America/Chicago:20260508T213000
DTSTAMP:20260424T093614
CREATED:20260412T115752Z
LAST-MODIFIED:20260412T131317Z
UID:67836-1778266800-1778275800@martincitytelegraph.com
SUMMARY:Adam Conover @ The Comedy Club of KC
DESCRIPTION:Adam Conover is the creator\, writer and star of the hit series Adam Ruins Everything. Also known for The G Word and as a regular on Bojack Horseman and Tuca and Bertie. Seating options: Front Row Table for 2 covers admission for 2 people. Preferred Seats are as close to the stage as possible\, held until 5 minutes prior to show. General Admission generally starts in the back half of the showroom. Party Table for 10 is a designated table in the front of the GA section covering admission for up to 10 people (food/drink not included).
URL:https://martincitytelegraph.com/calendar/adam-conover-the-comedy-club-of-kc/
LOCATION:The Comedy Club of KC\, 1130 W 103 St\, Kansas City\, MO\, 64114
ATTACH;FMTTYPE=image/png:https://martincitytelegraph.com/wp-content/uploads/2026/04/adamconover.png
END:VEVENT
BEGIN:VEVENT
DTSTART;TZID=America/Chicago:20260508T190000
DTEND;TZID=America/Chicago:20260508T220000
DTSTAMP:20260424T093614
CREATED:20260412T220128Z
LAST-MODIFIED:20260412T220128Z
UID:68560-1778266800-1778277600@martincitytelegraph.com
SUMMARY:Gary Lincoln @ Martin City Brewing Co.
DESCRIPTION:Live music at Martin City Brewing Company! Come enjoy great craft beer\, delicious pizza\, and a fantastic night of live music.
URL:https://martincitytelegraph.com/calendar/gary-lincoln-martin-city-brewing-co-4/
LOCATION:Martin City Brewing Company\, 500 E. 135th Street\, Kansas City\, MO\, United States
END:VEVENT
BEGIN:VEVENT
DTSTART;TZID=America/Chicago:20260508T200000
DTEND;TZID=America/Chicago:20260508T200000
DTSTAMP:20260424T093614
CREATED:20260412T212734Z
LAST-MODIFIED:20260412T212734Z
UID:68377-1778270400-1778270400@martincitytelegraph.com
SUMMARY:The Allied Saints @ The Limit Pub & Grub
DESCRIPTION:The Allied Saints bring their sound to The Limit Pub & Grub for a live music night you won’t want to miss!
URL:https://martincitytelegraph.com/calendar/the-allied-saints-the-limit-pub-grub/
END:VEVENT
BEGIN:VEVENT
DTSTART;TZID=America/Chicago:20260508T200000
DTEND;TZID=America/Chicago:20260508T200000
DTSTAMP:20260424T093614
CREATED:20260412T212734Z
LAST-MODIFIED:20260412T212734Z
UID:68378-1778270400-1778270400@martincitytelegraph.com
SUMMARY:The Tribe @ The Limit Pub & Grub
DESCRIPTION:The Tribe hits the stage at The Limit Pub & Grub for a fantastic night of live local music!
URL:https://martincitytelegraph.com/calendar/the-tribe-the-limit-pub-grub/
END:VEVENT
BEGIN:VEVENT
DTSTART;TZID=America/Chicago:20260508T200000
DTEND;TZID=America/Chicago:20260508T230000
DTSTAMP:20260424T093614
CREATED:20260412T213049Z
LAST-MODIFIED:20260412T213049Z
UID:68405-1778270400-1778281200@martincitytelegraph.com
SUMMARY:Karaoke Night @ Tanner's
DESCRIPTION:Join us every Friday at 8 PM for Karaoke Night at Tanner’s! Whether you’re a rockstar\, a shower singer\, or just here for the laughs\, the stage is yours. Come out and show KC what you’ve got!
URL:https://martincitytelegraph.com/calendar/karaoke-night-tanners-4/
LOCATION:Tanner’s\, 11134 Holmes Rd\, Kansas City\, MO\, 64131
END:VEVENT
BEGIN:VEVENT
DTSTART;TZID=America/Chicago:20260509T090000
DTEND;TZID=America/Chicago:20260509T110000
DTSTAMP:20260424T093614
CREATED:20260412T202035Z
LAST-MODIFIED:20260412T202035Z
UID:68187-1778317200-1778324400@martincitytelegraph.com
SUMMARY:Garden Work Days @ Lakeside Nature Center
DESCRIPTION:Welcome to Lakeside Nature Center’s Native Garden Team! Workdays may be cancelled because of the weather – call 816-513-8960 for confirmation. Located at Lakeside Nature Center\, 4701 E. Gregory Blvd.\, Kansas City\, MO.
URL:https://martincitytelegraph.com/calendar/garden-work-days-lakeside-nature-center/
LOCATION:Lakeside Nature Center\, 4701 East Gregory Boulevard
END:VEVENT
BEGIN:VEVENT
DTSTART;TZID=America/Chicago:20260509T100000
DTEND;TZID=America/Chicago:20260509T110000
DTSTAMP:20260424T093614
CREATED:20260412T201122Z
LAST-MODIFIED:20260412T201122Z
UID:68169-1778320800-1778324400@martincitytelegraph.com
SUMMARY:Arbor Day in Kansas City @ Loose Park
DESCRIPTION:Celebrate Arbor Day in Kansas City with a tree planting in Loose Park. In case of rain\, the ceremony will be held inside the Garden Center. This year’s tree planting is in honor of The Patriarch of Kansas City Painting\, Wilbur Niewald. As a tribute\, local artists will be painting en plein air around the park. Located at Loose Park\, 5200 Wornall\, Kansas City\, Missouri.
URL:https://martincitytelegraph.com/calendar/arbor-day-in-kansas-city-loose-park/
LOCATION:Loose Park\, 5200 Wornall Rd\, Kansas City\, 64112\, United States
END:VEVENT
BEGIN:VEVENT
DTSTART;TZID=America/Chicago:20260509T100000
DTEND;TZID=America/Chicago:20260509T140000
DTSTAMP:20260424T093614
CREATED:20260411T134934Z
LAST-MODIFIED:20260411T160722Z
UID:67525-1778320800-1778335200@martincitytelegraph.com
SUMMARY:Junior Craft Show @ High Blue
DESCRIPTION:Looking for unique\, handmade treasures? The Junior Craft Show is the perfect place to find them! Local young makers between the ages of 8 and 18 will be showcasing their talents and selling their one-of-a-kind creations. It’s a wonderful opportunity to support the next generation of entrepreneurs right in the community — and maybe discover a favorite new vendor in the making!
URL:https://martincitytelegraph.com/calendar/junior-craft-show-high-blue/
LOCATION:High Blue Fitness Center\, 16400 N Mullen\, Belton
ATTACH;FMTTYPE=image/jpeg:https://martincitytelegraph.com/wp-content/uploads/2026/04/beltonjuniorcraftshowmay2026.jpg
END:VEVENT
BEGIN:VEVENT
DTSTART;TZID=America/Chicago:20260509T110000
DTEND;TZID=America/Chicago:20260509T120000
DTSTAMP:20260424T093614
CREATED:20260412T133153Z
LAST-MODIFIED:20260412T133153Z
UID:68086-1778324400-1778328000@martincitytelegraph.com
SUMMARY:Train Ride @ Belton Railroad
DESCRIPTION:Take a step back in time to the Golden Age of Travel and ride a train like your grandparents\, or even your grandparent’s grandparents\, may have traveled on! From our 1920s era passenger coach\, our open-air excursion car\, to our 1950s Diesel locomotive\, riding with us through Old Towne Belton\, MO is a blast from the past! Ticket Prices: Ages 3 & under FREE | Ages 4-10: $10 | Ages 11+: $17. Looking for something extra special? Ride in the Caboose for $50 or ride in the Engine for $75 (tickets limited for each departure).
URL:https://martincitytelegraph.com/calendar/train-ride-belton-railroad-4/
LOCATION:Belton Railroad\, 502 E. Walnut
END:VEVENT
BEGIN:VEVENT
DTSTART;TZID=America/Chicago:20260509T140000
DTEND;TZID=America/Chicago:20260509T150000
DTSTAMP:20260424T093614
CREATED:20260412T133154Z
LAST-MODIFIED:20260412T133154Z
UID:68087-1778335200-1778338800@martincitytelegraph.com
SUMMARY:Train Ride @ Belton Railroad
DESCRIPTION:Take a step back in time to the Golden Age of Travel and ride a train like your grandparents\, or even your grandparent’s grandparents\, may have traveled on! From our 1920s era passenger coach\, our open-air excursion car\, to our 1950s Diesel locomotive\, riding with us through Old Towne Belton\, MO is a blast from the past! Ticket Prices: Ages 3 & under FREE | Ages 4-10: $10 | Ages 11+: $17. Looking for something extra special? Ride in the Caboose for $50 or ride in the Engine for $75 (tickets limited for each departure).
URL:https://martincitytelegraph.com/calendar/train-ride-belton-railroad-5/
LOCATION:Belton Railroad\, 502 E. Walnut
END:VEVENT
BEGIN:VEVENT
DTSTART;TZID=America/Chicago:20260509T140000
DTEND;TZID=America/Chicago:20260509T164500
DTSTAMP:20260424T093614
CREATED:20260412T025447Z
LAST-MODIFIED:20260412T025447Z
UID:67655-1778335200-1778345100@martincitytelegraph.com
SUMMARY:Adult Dungeons and Dragons @Belton Library
DESCRIPTION:Enter a world where adventure awaits with Dungeons and Dragons at the library. Interact with wizards and clerics\, trolls and elves…and other adults. Bring your own dice and character sheet if you have them. Intended for ages 18 and up.
URL:https://martincitytelegraph.com/calendar/adult-dungeons-and-dragons-belton-library-5/
LOCATION:Cass County Public Library Northern Resource Center\, 1741 E North Ave\, Belton\, MO\, United States
END:VEVENT
BEGIN:VEVENT
DTSTART;TZID=America/Chicago:20260509T140000
DTEND;TZID=America/Chicago:20260509T170000
DTSTAMP:20260424T093614
CREATED:20260412T031830Z
LAST-MODIFIED:20260412T122733Z
UID:67757-1778335200-1778346000@martincitytelegraph.com
SUMMARY:Mama Ray's Legacy Jam Featuring Lori Tucker @ BB's Lawnside BBQ
DESCRIPTION:Come jam with the crew every Saturday! Sign up with Lori and she will get you up on stage. No better jam in town! No Cover.
URL:https://martincitytelegraph.com/calendar/mama-rays-legacy-jam-featuring-lori-tucker-bbs-lawnside-bbq-6/
LOCATION:BB’s Lawnside\, 1205 E. 85th Street
ATTACH;FMTTYPE=image/jpeg:https://martincitytelegraph.com/wp-content/uploads/2026/04/lori-and-jay.jpg
END:VEVENT
BEGIN:VEVENT
DTSTART;TZID=America/Chicago:20260509T150000
DTEND;TZID=America/Chicago:20260509T170000
DTSTAMP:20260424T093614
CREATED:20260412T214156Z
LAST-MODIFIED:20260412T214156Z
UID:68446-1778338800-1778346000@martincitytelegraph.com
SUMMARY:Live Polka with Bram Wijnands @ KC Bier Co
DESCRIPTION:Enjoy fresh\, authentic German-style bier and a spread of Bavarian pretzels\, sausages\, and other favorites every Saturday in the Biergarten\, featuring live polka and German drinking songs with Bram Wijnands (and sometimes a special guest or two)! Live polka is rain or shine – the music will move indoors to the Bierhalle if needed. Free admission!
URL:https://martincitytelegraph.com/calendar/live-polka-with-bram-wijnands-kc-bier-co-4/
LOCATION:KC Bier Co\, 310 W. 79th Street
END:VEVENT
BEGIN:VEVENT
DTSTART;TZID=America/Chicago:20260509T150000
DTEND;TZID=America/Chicago:20260509T190000
DTSTAMP:20260424T093614
CREATED:20260412T214156Z
LAST-MODIFIED:20260412T221640Z
UID:68445-1778338800-1778353200@martincitytelegraph.com
SUMMARY:Neighborhood Bock Party @ KC Bier Co
DESCRIPTION:It’s time for the Third Annual Neighborhood BOCK Party! Join us for a Beer Festival featuring brews from local breweries and home brew clubs\, live performances by talented local musicians\, and fun — all while supporting Happy Bottoms\, a local nonprofit providing diapers free-of-charge to local families in need. A portion of proceeds goes to Happy Bottoms. Special thanks to Scavuzzo’s for sponsoring! Tickets: VIP Early Admission $40 (entry at 3:00 PM\, souvenir tasting glass\, unlimited samples) | General Admission $30 (entry at 4:00 PM\, souvenir tasting glass\, unlimited samples) | Designated Driver $10 (entry\, 3oz pretzel\, Hop Spritz non-alcoholic water). Event is 21+\, outdoors\, rain or shine. You may bring lawn chairs. Wristbands allow re-entry. No refunds.
URL:https://martincitytelegraph.com/calendar/neighborhood-bock-party-kc-bier-co/
LOCATION:KC Bier Co\, 310 W. 79th Street
ATTACH;FMTTYPE=image/jpeg:https://martincitytelegraph.com/wp-content/uploads/2026/04/BOCKPARTY.jpg
END:VEVENT
BEGIN:VEVENT
DTSTART;TZID=America/Chicago:20260509T170000
DTEND;TZID=America/Chicago:20260509T210000
DTSTAMP:20260424T093614
CREATED:20260212T200549Z
LAST-MODIFIED:20260212T200549Z
UID:65714-1778346000-1778360400@martincitytelegraph.com
SUMMARY:15th Annual KC South Rotary Club Reverse Raffle @ Armacost Car Museum
DESCRIPTION:Enjoy a gourmet dinner for two\, live and silent auctions\, entertainment\, a bottomless drink option and an exclusive look at a prestigious vintage car collection from 5 p.m. until 9 p.m. on Saturday\, May 9. Event is hosted by the KC South Rotary Club and is located at the Armacost Car Museum at 4200 E. 135th St. Grandview\, MO 64030. Tickets $180. Limited tickets sold. Email the KC South Rotary Club at skcrotarians@gmail.com for more information.
URL:https://martincitytelegraph.com/calendar/15th-annual-kc-south-rotary-club-reverse-raffle-armacost-car-museum/
LOCATION:Armacost Car Museum\, 4200 E. 135 St.\, Grandview\, MO
END:VEVENT
BEGIN:VEVENT
DTSTART;TZID=America/Chicago:20260509T173000
DTEND;TZID=America/Chicago:20260509T210000
DTSTAMP:20260424T093614
CREATED:20260415T213648Z
LAST-MODIFIED:20260415T213648Z
UID:68873-1778347800-1778360400@martincitytelegraph.com
SUMMARY:Mediterranean Food & Beer Pairing Dinner benefiting TARA @ Transparent Brewing Company
DESCRIPTION:Join us for a curated four-course Mediterranean feast crafted by Head Chef Brian Hall\, each course perfectly paired with a signature Transparent Brewing pour. Owner Nolan Brown will walk you through each beer pairing while Chef Brian shares the inspiration behind every dish. Benefiting The Animal Rescue Alliance (TARA) — representatives will be on-site to share volunteer and donation opportunities. Only 40 seats available. Single ticket $80 | Couple’s tickets $150. Doors open 5:30 PM\, dinner begins promptly at 6:00 PM. Tickets on sale April 1. Located at The IPA at Transparent Brewing Co.\, 14501 White Ave.\, Grandview\, MO 64030.
URL:https://martincitytelegraph.com/calendar/mediterranean-food-beer-pairing-dinner-benefiting-tara-transparent-brewing-company/
LOCATION:Transparent Brewing Company\, 14501 White ave\, Grandview\, MO\, United States
END:VEVENT
BEGIN:VEVENT
DTSTART;TZID=America/Chicago:20260509T190000
DTEND;TZID=America/Chicago:20260509T190000
DTSTAMP:20260424T093614
CREATED:20260412T212734Z
LAST-MODIFIED:20260412T212734Z
UID:68379-1778353200-1778353200@martincitytelegraph.com
SUMMARY:Poker Night @ The Limit Pub & Grub
DESCRIPTION:Try your luck at our weekly Saturday night Poker! Only a $5 buy-in. New to poker? No problem — contact us about our upcoming beginner class! Every Saturday night at The Limit Pub & Grub.
URL:https://martincitytelegraph.com/calendar/poker-night-the-limit-pub-grub-4/
END:VEVENT
END:VCALENDAR